BEGIN:VCALENDAR
VERSION:2.0
PRODID:-//Town of Whiteland - ECPv6.15.18//NONSGML v1.0//EN
CALSCALE:GREGORIAN
METHOD:PUBLISH
X-ORIGINAL-URL:https://www.townofwhiteland.com
X-WR-CALDESC:Events for Town of Whiteland
REFRESH-INTERVAL;VALUE=DURATION:PT1H
X-Robots-Tag:noindex
X-PUBLISHED-TTL:PT1H
BEGIN:VTIMEZONE
TZID:America/Indiana/Indianapolis
BEGIN:DAYLIGHT
TZOFFSETFROM:-0500
TZOFFSETTO:-0400
TZNAME:EDT
DTSTART:20250309T070000
END:DAYLIGHT
BEGIN:STANDARD
TZOFFSETFROM:-0400
TZOFFSETTO:-0500
TZNAME:EST
DTSTART:20251102T060000
END:STANDARD
BEGIN:DAYLIGHT
TZOFFSETFROM:-0500
TZOFFSETTO:-0400
TZNAME:EDT
DTSTART:20260308T070000
END:DAYLIGHT
BEGIN:STANDARD
TZOFFSETFROM:-0400
TZOFFSETTO:-0500
TZNAME:EST
DTSTART:20261101T060000
END:STANDARD
BEGIN:DAYLIGHT
TZOFFSETFROM:-0500
TZOFFSETTO:-0400
TZNAME:EDT
DTSTART:20270314T070000
END:DAYLIGHT
BEGIN:STANDARD
TZOFFSETFROM:-0400
TZOFFSETTO:-0500
TZNAME:EST
DTSTART:20271107T060000
END:STANDARD
END:VTIMEZONE
BEGIN:VEVENT
DTSTART;VALUE=DATE:20260616
DTEND;VALUE=DATE:20260617
DTSTAMP:20260425T073636
CREATED:20220118T220934Z
LAST-MODIFIED:20231228T134618Z
UID:10003747-1781568000-1781654399@www.townofwhiteland.com
SUMMARY:Recycle
DESCRIPTION:
URL:https://www.townofwhiteland.com/event/recycle/2026-06-16/
LOCATION:IN
CATEGORIES:Recycle
END:VEVENT
BEGIN:VEVENT
DTSTART;VALUE=DATE:20260616
DTEND;VALUE=DATE:20260617
DTSTAMP:20260425T073636
CREATED:20230823T151040Z
LAST-MODIFIED:20250825T143444Z
UID:10005655-1781568000-1781654399@www.townofwhiteland.com
SUMMARY:Trash
DESCRIPTION:
URL:https://www.townofwhiteland.com/event/trash-4/2026-06-16/
LOCATION:IN
CATEGORIES:Trash
END:VEVENT
BEGIN:VEVENT
DTSTART;TZID=America/Indiana/Indianapolis:20260616T140000
DTEND;TZID=America/Indiana/Indianapolis:20260616T150000
DTSTAMP:20260425T073636
CREATED:20251203T150916Z
LAST-MODIFIED:20251203T155616Z
UID:10003091-1781618400-1781622000@www.townofwhiteland.com
SUMMARY:Technical Review Committee
DESCRIPTION:
URL:https://www.townofwhiteland.com/event/technical-review-committee-2021-01-19-2023-05-16-5/2026-06-16/
LOCATION:Town Hall\, 549 Main Street\, Whiteland\, IN\, 46184\, United States
CATEGORIES:General
ORGANIZER;CN="Town of Whiteland":MAILTO:adminasst@whiteland.in.us
END:VEVENT
END:VCALENDAR