BEGIN:VCALENDAR
VERSION:2.0
PRODID:-//Town of Whiteland - ECPv6.15.18//NONSGML v1.0//EN
CALSCALE:GREGORIAN
METHOD:PUBLISH
X-WR-CALNAME:Town of Whiteland
X-ORIGINAL-URL:https://www.townofwhiteland.com
X-WR-CALDESC:Events for Town of Whiteland
REFRESH-INTERVAL;VALUE=DURATION:PT1H
X-Robots-Tag:noindex
X-PUBLISHED-TTL:PT1H
BEGIN:VTIMEZONE
TZID:America/Indiana/Indianapolis
BEGIN:DAYLIGHT
TZOFFSETFROM:-0500
TZOFFSETTO:-0400
TZNAME:EDT
DTSTART:20210314T070000
END:DAYLIGHT
BEGIN:STANDARD
TZOFFSETFROM:-0400
TZOFFSETTO:-0500
TZNAME:EST
DTSTART:20211107T060000
END:STANDARD
BEGIN:DAYLIGHT
TZOFFSETFROM:-0500
TZOFFSETTO:-0400
TZNAME:EDT
DTSTART:20220313T070000
END:DAYLIGHT
BEGIN:STANDARD
TZOFFSETFROM:-0400
TZOFFSETTO:-0500
TZNAME:EST
DTSTART:20221106T060000
END:STANDARD
BEGIN:DAYLIGHT
TZOFFSETFROM:-0500
TZOFFSETTO:-0400
TZNAME:EDT
DTSTART:20230312T070000
END:DAYLIGHT
BEGIN:STANDARD
TZOFFSETFROM:-0400
TZOFFSETTO:-0500
TZNAME:EST
DTSTART:20231105T060000
END:STANDARD
BEGIN:DAYLIGHT
TZOFFSETFROM:-0500
TZOFFSETTO:-0400
TZNAME:EDT
DTSTART:20240310T070000
END:DAYLIGHT
BEGIN:STANDARD
TZOFFSETFROM:-0400
TZOFFSETTO:-0500
TZNAME:EST
DTSTART:20241103T060000
END:STANDARD
BEGIN:DAYLIGHT
TZOFFSETFROM:-0500
TZOFFSETTO:-0400
TZNAME:EDT
DTSTART:20250309T070000
END:DAYLIGHT
BEGIN:STANDARD
TZOFFSETFROM:-0400
TZOFFSETTO:-0500
TZNAME:EST
DTSTART:20251102T060000
END:STANDARD
END:VTIMEZONE
BEGIN:VEVENT
DTSTART;TZID=America/Indiana/Indianapolis:20241107T190000
DTEND;TZID=America/Indiana/Indianapolis:20241107T200000
DTSTAMP:20260422T051603
CREATED:20201211T185306Z
LAST-MODIFIED:20250627T142355Z
UID:10002930-1731006000-1731009600@www.townofwhiteland.com
SUMMARY:Board of Zoning Appeals
DESCRIPTION:
URL:https://www.townofwhiteland.com/event/board-of-zoning-appeals/2024-11-07/
LOCATION:Town Hall\, 549 Main Street\, Whiteland\, IN\, 46184\, United States
CATEGORIES:Boards of Zoning Appeals
END:VEVENT
BEGIN:VEVENT
DTSTART;TZID=America/Indiana/Indianapolis:20241003T190000
DTEND;TZID=America/Indiana/Indianapolis:20241003T200000
DTSTAMP:20260422T051604
CREATED:20201211T185306Z
LAST-MODIFIED:20250627T142355Z
UID:10002929-1727982000-1727985600@www.townofwhiteland.com
SUMMARY:Board of Zoning Appeals
DESCRIPTION:
URL:https://www.townofwhiteland.com/event/board-of-zoning-appeals/2024-10-03/
LOCATION:Town Hall\, 549 Main Street\, Whiteland\, IN\, 46184\, United States
CATEGORIES:Boards of Zoning Appeals
END:VEVENT
BEGIN:VEVENT
DTSTART;TZID=America/Indiana/Indianapolis:20240905T190000
DTEND;TZID=America/Indiana/Indianapolis:20240905T200000
DTSTAMP:20260422T051604
CREATED:20201211T185306Z
LAST-MODIFIED:20250627T142355Z
UID:10002928-1725562800-1725566400@www.townofwhiteland.com
SUMMARY:Board of Zoning Appeals
DESCRIPTION:
URL:https://www.townofwhiteland.com/event/board-of-zoning-appeals/2024-09-05/
LOCATION:Town Hall\, 549 Main Street\, Whiteland\, IN\, 46184\, United States
CATEGORIES:Boards of Zoning Appeals
END:VEVENT
BEGIN:VEVENT
DTSTART;TZID=America/Indiana/Indianapolis:20240801T190000
DTEND;TZID=America/Indiana/Indianapolis:20240801T200000
DTSTAMP:20260422T051604
CREATED:20201211T185306Z
LAST-MODIFIED:20250627T142355Z
UID:10002927-1722538800-1722542400@www.townofwhiteland.com
SUMMARY:Board of Zoning Appeals
DESCRIPTION:
URL:https://www.townofwhiteland.com/event/board-of-zoning-appeals/2024-08-01/
LOCATION:Town Hall\, 549 Main Street\, Whiteland\, IN\, 46184\, United States
CATEGORIES:Boards of Zoning Appeals
END:VEVENT
BEGIN:VEVENT
DTSTART;TZID=America/Indiana/Indianapolis:20240703T190000
DTEND;TZID=America/Indiana/Indianapolis:20240703T200000
DTSTAMP:20260422T051604
CREATED:20231228T163437Z
LAST-MODIFIED:20240701T123242Z
UID:10006184-1720033200-1720036800@www.townofwhiteland.com
SUMMARY:Board of Zoning Appeals - Cancelled
DESCRIPTION:
URL:https://www.townofwhiteland.com/event/board-of-zoning-appeals-6/
LOCATION:IN
CATEGORIES:Boards of Zoning Appeals
END:VEVENT
BEGIN:VEVENT
DTSTART;TZID=America/Indiana/Indianapolis:20240606T190000
DTEND;TZID=America/Indiana/Indianapolis:20240606T200000
DTSTAMP:20260422T051604
CREATED:20201211T185306Z
LAST-MODIFIED:20250627T142355Z
UID:10002925-1717700400-1717704000@www.townofwhiteland.com
SUMMARY:Board of Zoning Appeals
DESCRIPTION:
URL:https://www.townofwhiteland.com/event/board-of-zoning-appeals/2024-06-06/
LOCATION:Town Hall\, 549 Main Street\, Whiteland\, IN\, 46184\, United States
CATEGORIES:Boards of Zoning Appeals
END:VEVENT
BEGIN:VEVENT
DTSTART;TZID=America/Indiana/Indianapolis:20240502T190000
DTEND;TZID=America/Indiana/Indianapolis:20240502T200000
DTSTAMP:20260422T051604
CREATED:20201211T185306Z
LAST-MODIFIED:20250627T142355Z
UID:10002924-1714676400-1714680000@www.townofwhiteland.com
SUMMARY:Board of Zoning Appeals
DESCRIPTION:
URL:https://www.townofwhiteland.com/event/board-of-zoning-appeals/2024-05-02/
LOCATION:Town Hall\, 549 Main Street\, Whiteland\, IN\, 46184\, United States
CATEGORIES:Boards of Zoning Appeals
END:VEVENT
BEGIN:VEVENT
DTSTART;TZID=America/Indiana/Indianapolis:20240404T190000
DTEND;TZID=America/Indiana/Indianapolis:20240404T200000
DTSTAMP:20260422T051604
CREATED:20201211T185306Z
LAST-MODIFIED:20250627T142355Z
UID:10002923-1712257200-1712260800@www.townofwhiteland.com
SUMMARY:Board of Zoning Appeals
DESCRIPTION:
URL:https://www.townofwhiteland.com/event/board-of-zoning-appeals/2024-04-04/
LOCATION:Town Hall\, 549 Main Street\, Whiteland\, IN\, 46184\, United States
CATEGORIES:Boards of Zoning Appeals
END:VEVENT
BEGIN:VEVENT
DTSTART;TZID=America/Indiana/Indianapolis:20240307T190000
DTEND;TZID=America/Indiana/Indianapolis:20240307T200000
DTSTAMP:20260422T051604
CREATED:20201211T185306Z
LAST-MODIFIED:20250627T142355Z
UID:10002922-1709838000-1709841600@www.townofwhiteland.com
SUMMARY:Board of Zoning Appeals
DESCRIPTION:
URL:https://www.townofwhiteland.com/event/board-of-zoning-appeals/2024-03-07/
LOCATION:Town Hall\, 549 Main Street\, Whiteland\, IN\, 46184\, United States
CATEGORIES:Boards of Zoning Appeals
END:VEVENT
BEGIN:VEVENT
DTSTART;TZID=America/Indiana/Indianapolis:20240201T190000
DTEND;TZID=America/Indiana/Indianapolis:20240201T200000
DTSTAMP:20260422T051604
CREATED:20240123T210420Z
LAST-MODIFIED:20240123T210423Z
UID:10002921-1706814000-1706817600@www.townofwhiteland.com
SUMMARY:Board of Zoning Appeals - Cancelled
DESCRIPTION:
URL:https://www.townofwhiteland.com/event/board-of-zoning-appeals-8/
LOCATION:Town Hall\, 549 Main Street\, Whiteland\, IN\, 46184\, United States
CATEGORIES:Boards of Zoning Appeals
END:VEVENT
BEGIN:VEVENT
DTSTART;TZID=America/Indiana/Indianapolis:20240201T190000
DTEND;TZID=America/Indiana/Indianapolis:20240201T200000
DTSTAMP:20260422T051604
CREATED:20201211T185306Z
LAST-MODIFIED:20250627T142355Z
UID:10006534-1706814000-1706817600@www.townofwhiteland.com
SUMMARY:Board of Zoning Appeals
DESCRIPTION:
URL:https://www.townofwhiteland.com/event/board-of-zoning-appeals/2024-02-01/
LOCATION:Town Hall\, 549 Main Street\, Whiteland\, IN\, 46184\, United States
CATEGORIES:Boards of Zoning Appeals
END:VEVENT
BEGIN:VEVENT
DTSTART;TZID=America/Indiana/Indianapolis:20240104T190000
DTEND;TZID=America/Indiana/Indianapolis:20240104T200000
DTSTAMP:20260422T051604
CREATED:20240102T150931Z
LAST-MODIFIED:20240102T150950Z
UID:10002920-1704394800-1704398400@www.townofwhiteland.com
SUMMARY:Board of Zoning Appeals - Cancelled
DESCRIPTION:
URL:https://www.townofwhiteland.com/event/board-of-zoning-appeals-7/
LOCATION:Town Hall\, 549 Main Street\, Whiteland\, IN\, 46184\, United States
CATEGORIES:Boards of Zoning Appeals
END:VEVENT
BEGIN:VEVENT
DTSTART;TZID=America/Indiana/Indianapolis:20240104T190000
DTEND;TZID=America/Indiana/Indianapolis:20240104T200000
DTSTAMP:20260422T051604
CREATED:20201211T185306Z
LAST-MODIFIED:20250627T142355Z
UID:10006533-1704394800-1704398400@www.townofwhiteland.com
SUMMARY:Board of Zoning Appeals
DESCRIPTION:
URL:https://www.townofwhiteland.com/event/board-of-zoning-appeals/2024-01-04/
LOCATION:Town Hall\, 549 Main Street\, Whiteland\, IN\, 46184\, United States
CATEGORIES:Boards of Zoning Appeals
END:VEVENT
BEGIN:VEVENT
DTSTART;TZID=America/Indiana/Indianapolis:20231207T190000
DTEND;TZID=America/Indiana/Indianapolis:20231207T200000
DTSTAMP:20260422T051604
CREATED:20201211T185306Z
LAST-MODIFIED:20250627T142355Z
UID:10002919-1701975600-1701979200@www.townofwhiteland.com
SUMMARY:Board of Zoning Appeals
DESCRIPTION:
URL:https://www.townofwhiteland.com/event/board-of-zoning-appeals/2023-12-07/
LOCATION:Town Hall\, 549 Main Street\, Whiteland\, IN\, 46184\, United States
CATEGORIES:Boards of Zoning Appeals
END:VEVENT
BEGIN:VEVENT
DTSTART;TZID=America/Indiana/Indianapolis:20231102T190000
DTEND;TZID=America/Indiana/Indianapolis:20231102T200000
DTSTAMP:20260422T051604
CREATED:20201211T185306Z
LAST-MODIFIED:20250627T142355Z
UID:10002918-1698951600-1698955200@www.townofwhiteland.com
SUMMARY:Board of Zoning Appeals
DESCRIPTION:
URL:https://www.townofwhiteland.com/event/board-of-zoning-appeals/2023-11-02/
LOCATION:Town Hall\, 549 Main Street\, Whiteland\, IN\, 46184\, United States
CATEGORIES:Boards of Zoning Appeals
END:VEVENT
BEGIN:VEVENT
DTSTART;TZID=America/Indiana/Indianapolis:20231005T190000
DTEND;TZID=America/Indiana/Indianapolis:20231005T200000
DTSTAMP:20260422T051604
CREATED:20201211T185306Z
LAST-MODIFIED:20250627T142355Z
UID:10002917-1696532400-1696536000@www.townofwhiteland.com
SUMMARY:Board of Zoning Appeals
DESCRIPTION:
URL:https://www.townofwhiteland.com/event/board-of-zoning-appeals/2023-10-05/
LOCATION:Town Hall\, 549 Main Street\, Whiteland\, IN\, 46184\, United States
CATEGORIES:Boards of Zoning Appeals
END:VEVENT
BEGIN:VEVENT
DTSTART;TZID=America/Indiana/Indianapolis:20230907T190000
DTEND;TZID=America/Indiana/Indianapolis:20230907T200000
DTSTAMP:20260422T051604
CREATED:20201211T185306Z
LAST-MODIFIED:20250627T142355Z
UID:10002916-1694113200-1694116800@www.townofwhiteland.com
SUMMARY:Board of Zoning Appeals
DESCRIPTION:
URL:https://www.townofwhiteland.com/event/board-of-zoning-appeals/2023-09-07/
LOCATION:Town Hall\, 549 Main Street\, Whiteland\, IN\, 46184\, United States
CATEGORIES:Boards of Zoning Appeals
END:VEVENT
BEGIN:VEVENT
DTSTART;TZID=America/Indiana/Indianapolis:20230803T190000
DTEND;TZID=America/Indiana/Indianapolis:20230803T200000
DTSTAMP:20260422T051604
CREATED:20230731T132212Z
LAST-MODIFIED:20230731T132214Z
UID:10002915-1691089200-1691092800@www.townofwhiteland.com
SUMMARY:Board of Zoning Appeals - Canceled
DESCRIPTION:
URL:https://www.townofwhiteland.com/event/board-of-zoning-appeals-5/
LOCATION:Town Hall\, 549 Main Street\, Whiteland\, IN\, 46184\, United States
CATEGORIES:Boards of Zoning Appeals
END:VEVENT
BEGIN:VEVENT
DTSTART;TZID=America/Indiana/Indianapolis:20230706T190000
DTEND;TZID=America/Indiana/Indianapolis:20230706T200000
DTSTAMP:20260422T051604
CREATED:20230614T123123Z
LAST-MODIFIED:20230614T123124Z
UID:10002914-1688670000-1688673600@www.townofwhiteland.com
SUMMARY:Board of Zoning Appeals - Canceled
DESCRIPTION:
URL:https://www.townofwhiteland.com/event/board-of-zoning-appeals-4/
LOCATION:Town Hall\, 549 Main Street\, Whiteland\, IN\, 46184\, United States
CATEGORIES:Boards of Zoning Appeals
END:VEVENT
BEGIN:VEVENT
DTSTART;TZID=America/Indiana/Indianapolis:20230706T190000
DTEND;TZID=America/Indiana/Indianapolis:20230706T200000
DTSTAMP:20260422T051604
CREATED:20230614T123121Z
LAST-MODIFIED:20230614T123121Z
UID:10005130-1688670000-1688673600@www.townofwhiteland.com
SUMMARY:Board of Zoning Appeals
DESCRIPTION:
URL:https://www.townofwhiteland.com/event/board-of-zoning-appeals-3/
LOCATION:Town Hall\, 549 Main Street\, Whiteland\, IN\, 46184\, United States
CATEGORIES:Boards of Zoning Appeals
END:VEVENT
BEGIN:VEVENT
DTSTART;TZID=America/Indiana/Indianapolis:20230601T190000
DTEND;TZID=America/Indiana/Indianapolis:20230601T200000
DTSTAMP:20260422T051604
CREATED:20201211T185306Z
LAST-MODIFIED:20250627T142355Z
UID:10002913-1685646000-1685649600@www.townofwhiteland.com
SUMMARY:Board of Zoning Appeals
DESCRIPTION:
URL:https://www.townofwhiteland.com/event/board-of-zoning-appeals/2023-06-01/
LOCATION:Town Hall\, 549 Main Street\, Whiteland\, IN\, 46184\, United States
CATEGORIES:Boards of Zoning Appeals
END:VEVENT
BEGIN:VEVENT
DTSTART;TZID=America/Indiana/Indianapolis:20230504T190000
DTEND;TZID=America/Indiana/Indianapolis:20230504T200000
DTSTAMP:20260422T051604
CREATED:20201211T185306Z
LAST-MODIFIED:20250627T142355Z
UID:10002912-1683226800-1683230400@www.townofwhiteland.com
SUMMARY:Board of Zoning Appeals
DESCRIPTION:
URL:https://www.townofwhiteland.com/event/board-of-zoning-appeals/2023-05-04/
LOCATION:Town Hall\, 549 Main Street\, Whiteland\, IN\, 46184\, United States
CATEGORIES:Boards of Zoning Appeals
END:VEVENT
BEGIN:VEVENT
DTSTART;TZID=America/Indiana/Indianapolis:20230406T190000
DTEND;TZID=America/Indiana/Indianapolis:20230406T200000
DTSTAMP:20260422T051604
CREATED:20230328T195250Z
LAST-MODIFIED:20230328T195252Z
UID:10002911-1680807600-1680811200@www.townofwhiteland.com
SUMMARY:Board of Zoning Appeals  - Canceled
DESCRIPTION:
URL:https://www.townofwhiteland.com/event/board-of-zoning-appeals-2/
LOCATION:Town Hall\, 549 Main Street\, Whiteland\, IN\, 46184\, United States
CATEGORIES:Boards of Zoning Appeals
END:VEVENT
BEGIN:VEVENT
DTSTART;TZID=America/Indiana/Indianapolis:20230302T190000
DTEND;TZID=America/Indiana/Indianapolis:20230302T200000
DTSTAMP:20260422T051604
CREATED:20201211T185306Z
LAST-MODIFIED:20250627T142355Z
UID:10002910-1677783600-1677787200@www.townofwhiteland.com
SUMMARY:Board of Zoning Appeals
DESCRIPTION:
URL:https://www.townofwhiteland.com/event/board-of-zoning-appeals/2023-03-02/
LOCATION:Town Hall\, 549 Main Street\, Whiteland\, IN\, 46184\, United States
CATEGORIES:Boards of Zoning Appeals
END:VEVENT
BEGIN:VEVENT
DTSTART;TZID=America/Indiana/Indianapolis:20230202T190000
DTEND;TZID=America/Indiana/Indianapolis:20230202T200000
DTSTAMP:20260422T051604
CREATED:20201211T185306Z
LAST-MODIFIED:20250627T142355Z
UID:10002909-1675364400-1675368000@www.townofwhiteland.com
SUMMARY:Board of Zoning Appeals
DESCRIPTION:
URL:https://www.townofwhiteland.com/event/board-of-zoning-appeals/2023-02-02/
LOCATION:Town Hall\, 549 Main Street\, Whiteland\, IN\, 46184\, United States
CATEGORIES:Boards of Zoning Appeals
END:VEVENT
BEGIN:VEVENT
DTSTART;TZID=America/Indiana/Indianapolis:20230105T190000
DTEND;TZID=America/Indiana/Indianapolis:20230105T200000
DTSTAMP:20260422T051604
CREATED:20201211T185306Z
LAST-MODIFIED:20250627T142355Z
UID:10002908-1672945200-1672948800@www.townofwhiteland.com
SUMMARY:Board of Zoning Appeals
DESCRIPTION:
URL:https://www.townofwhiteland.com/event/board-of-zoning-appeals/2023-01-05/
LOCATION:Town Hall\, 549 Main Street\, Whiteland\, IN\, 46184\, United States
CATEGORIES:Boards of Zoning Appeals
END:VEVENT
BEGIN:VEVENT
DTSTART;TZID=America/Indiana/Indianapolis:20221201T190000
DTEND;TZID=America/Indiana/Indianapolis:20221201T200000
DTSTAMP:20260422T051604
CREATED:20201211T185306Z
LAST-MODIFIED:20221107T140301Z
UID:10002975-1669921200-1669924800@www.townofwhiteland.com
SUMMARY:Board of Zoning Appeals - Canceled
DESCRIPTION:
URL:https://www.townofwhiteland.com/event/board-of-zoning-appeals-2022-12-01/
LOCATION:Town Hall\, 549 Main Street\, Whiteland\, IN\, 46184\, United States
CATEGORIES:Boards of Zoning Appeals
END:VEVENT
BEGIN:VEVENT
DTSTART;TZID=America/Indiana/Indianapolis:20221103T190000
DTEND;TZID=America/Indiana/Indianapolis:20221103T200000
DTSTAMP:20260422T051604
CREATED:20201211T185306Z
LAST-MODIFIED:20250627T142355Z
UID:10002907-1667502000-1667505600@www.townofwhiteland.com
SUMMARY:Board of Zoning Appeals
DESCRIPTION:
URL:https://www.townofwhiteland.com/event/board-of-zoning-appeals/2022-11-03/
LOCATION:Town Hall\, 549 Main Street\, Whiteland\, IN\, 46184\, United States
CATEGORIES:Boards of Zoning Appeals
END:VEVENT
BEGIN:VEVENT
DTSTART;TZID=America/Indiana/Indianapolis:20221006T190000
DTEND;TZID=America/Indiana/Indianapolis:20221006T200000
DTSTAMP:20260422T051604
CREATED:20201211T185306Z
LAST-MODIFIED:20250627T142355Z
UID:10002906-1665082800-1665086400@www.townofwhiteland.com
SUMMARY:Board of Zoning Appeals
DESCRIPTION:
URL:https://www.townofwhiteland.com/event/board-of-zoning-appeals/2022-10-06/
LOCATION:Town Hall\, 549 Main Street\, Whiteland\, IN\, 46184\, United States
CATEGORIES:Boards of Zoning Appeals
END:VEVENT
BEGIN:VEVENT
DTSTART;TZID=America/Indiana/Indianapolis:20220901T190000
DTEND;TZID=America/Indiana/Indianapolis:20220901T200000
DTSTAMP:20260422T051604
CREATED:20201211T185306Z
LAST-MODIFIED:20250627T142355Z
UID:10002905-1662058800-1662062400@www.townofwhiteland.com
SUMMARY:Board of Zoning Appeals
DESCRIPTION:
URL:https://www.townofwhiteland.com/event/board-of-zoning-appeals/2022-09-01/
LOCATION:Town Hall\, 549 Main Street\, Whiteland\, IN\, 46184\, United States
CATEGORIES:Boards of Zoning Appeals
END:VEVENT
END:VCALENDAR