BEGIN:VCALENDAR
VERSION:2.0
PRODID:-//Town of Whiteland - ECPv6.15.18//NONSGML v1.0//EN
CALSCALE:GREGORIAN
METHOD:PUBLISH
X-ORIGINAL-URL:https://www.townofwhiteland.com
X-WR-CALDESC:Events for Town of Whiteland
REFRESH-INTERVAL;VALUE=DURATION:PT1H
X-Robots-Tag:noindex
X-PUBLISHED-TTL:PT1H
BEGIN:VTIMEZONE
TZID:America/Indiana/Indianapolis
BEGIN:DAYLIGHT
TZOFFSETFROM:-0500
TZOFFSETTO:-0400
TZNAME:EDT
DTSTART:20280312T070000
END:DAYLIGHT
BEGIN:STANDARD
TZOFFSETFROM:-0400
TZOFFSETTO:-0500
TZNAME:EST
DTSTART:20281105T060000
END:STANDARD
BEGIN:DAYLIGHT
TZOFFSETFROM:-0500
TZOFFSETTO:-0400
TZNAME:EDT
DTSTART:20290311T070000
END:DAYLIGHT
BEGIN:STANDARD
TZOFFSETFROM:-0400
TZOFFSETTO:-0500
TZNAME:EST
DTSTART:20291104T060000
END:STANDARD
BEGIN:DAYLIGHT
TZOFFSETFROM:-0500
TZOFFSETTO:-0400
TZNAME:EDT
DTSTART:20300310T070000
END:DAYLIGHT
BEGIN:STANDARD
TZOFFSETFROM:-0400
TZOFFSETTO:-0500
TZNAME:EST
DTSTART:20301103T060000
END:STANDARD
BEGIN:DAYLIGHT
TZOFFSETFROM:-0500
TZOFFSETTO:-0400
TZNAME:EDT
DTSTART:20310309T070000
END:DAYLIGHT
BEGIN:STANDARD
TZOFFSETFROM:-0400
TZOFFSETTO:-0500
TZNAME:EST
DTSTART:20311102T060000
END:STANDARD
BEGIN:DAYLIGHT
TZOFFSETFROM:-0500
TZOFFSETTO:-0400
TZNAME:EDT
DTSTART:20320314T070000
END:DAYLIGHT
BEGIN:STANDARD
TZOFFSETFROM:-0400
TZOFFSETTO:-0500
TZNAME:EST
DTSTART:20321107T060000
END:STANDARD
END:VTIMEZONE
BEGIN:VEVENT
DTSTART;TZID=America/Indiana/Indianapolis:20290906T180000
DTEND;TZID=America/Indiana/Indianapolis:20290906T200000
DTSTAMP:20260423T193646
CREATED:20251218T152456Z
LAST-MODIFIED:20251218T152458Z
UID:10007968-1883412000-1883419200@www.townofwhiteland.com
SUMMARY:Board of Zoning Appeals
DESCRIPTION:
URL:https://www.townofwhiteland.com/event/board-of-zoning-appeals-14/2029-09-06/
LOCATION:Town Hall\, 549 Main Street\, Whiteland\, IN\, 46184\, United States
CATEGORIES:Boards of Zoning Appeals
END:VEVENT
BEGIN:VEVENT
DTSTART;TZID=America/Indiana/Indianapolis:20291004T180000
DTEND;TZID=America/Indiana/Indianapolis:20291004T200000
DTSTAMP:20260423T193646
CREATED:20251218T152456Z
LAST-MODIFIED:20251218T152458Z
UID:10007969-1885831200-1885838400@www.townofwhiteland.com
SUMMARY:Board of Zoning Appeals
DESCRIPTION:
URL:https://www.townofwhiteland.com/event/board-of-zoning-appeals-14/2029-10-04/
LOCATION:Town Hall\, 549 Main Street\, Whiteland\, IN\, 46184\, United States
CATEGORIES:Boards of Zoning Appeals
END:VEVENT
BEGIN:VEVENT
DTSTART;TZID=America/Indiana/Indianapolis:20291101T180000
DTEND;TZID=America/Indiana/Indianapolis:20291101T200000
DTSTAMP:20260423T193646
CREATED:20251218T152456Z
LAST-MODIFIED:20251218T152458Z
UID:10007970-1888250400-1888257600@www.townofwhiteland.com
SUMMARY:Board of Zoning Appeals
DESCRIPTION:
URL:https://www.townofwhiteland.com/event/board-of-zoning-appeals-14/2029-11-01/
LOCATION:Town Hall\, 549 Main Street\, Whiteland\, IN\, 46184\, United States
CATEGORIES:Boards of Zoning Appeals
END:VEVENT
BEGIN:VEVENT
DTSTART;TZID=America/Indiana/Indianapolis:20291206T180000
DTEND;TZID=America/Indiana/Indianapolis:20291206T200000
DTSTAMP:20260423T193646
CREATED:20251218T152456Z
LAST-MODIFIED:20251218T152458Z
UID:10007971-1891274400-1891281600@www.townofwhiteland.com
SUMMARY:Board of Zoning Appeals
DESCRIPTION:
URL:https://www.townofwhiteland.com/event/board-of-zoning-appeals-14/2029-12-06/
LOCATION:Town Hall\, 549 Main Street\, Whiteland\, IN\, 46184\, United States
CATEGORIES:Boards of Zoning Appeals
END:VEVENT
BEGIN:VEVENT
DTSTART;TZID=America/Indiana/Indianapolis:20300103T180000
DTEND;TZID=America/Indiana/Indianapolis:20300103T200000
DTSTAMP:20260423T193646
CREATED:20251218T152456Z
LAST-MODIFIED:20251218T152458Z
UID:10007972-1893693600-1893700800@www.townofwhiteland.com
SUMMARY:Board of Zoning Appeals
DESCRIPTION:
URL:https://www.townofwhiteland.com/event/board-of-zoning-appeals-14/2030-01-03/
LOCATION:Town Hall\, 549 Main Street\, Whiteland\, IN\, 46184\, United States
CATEGORIES:Boards of Zoning Appeals
END:VEVENT
BEGIN:VEVENT
DTSTART;TZID=America/Indiana/Indianapolis:20300207T180000
DTEND;TZID=America/Indiana/Indianapolis:20300207T200000
DTSTAMP:20260423T193646
CREATED:20251218T152456Z
LAST-MODIFIED:20251218T152458Z
UID:10007973-1896717600-1896724800@www.townofwhiteland.com
SUMMARY:Board of Zoning Appeals
DESCRIPTION:
URL:https://www.townofwhiteland.com/event/board-of-zoning-appeals-14/2030-02-07/
LOCATION:Town Hall\, 549 Main Street\, Whiteland\, IN\, 46184\, United States
CATEGORIES:Boards of Zoning Appeals
END:VEVENT
BEGIN:VEVENT
DTSTART;TZID=America/Indiana/Indianapolis:20300307T180000
DTEND;TZID=America/Indiana/Indianapolis:20300307T200000
DTSTAMP:20260423T193646
CREATED:20251218T152456Z
LAST-MODIFIED:20251218T152458Z
UID:10007974-1899136800-1899144000@www.townofwhiteland.com
SUMMARY:Board of Zoning Appeals
DESCRIPTION:
URL:https://www.townofwhiteland.com/event/board-of-zoning-appeals-14/2030-03-07/
LOCATION:Town Hall\, 549 Main Street\, Whiteland\, IN\, 46184\, United States
CATEGORIES:Boards of Zoning Appeals
END:VEVENT
BEGIN:VEVENT
DTSTART;TZID=America/Indiana/Indianapolis:20300404T180000
DTEND;TZID=America/Indiana/Indianapolis:20300404T200000
DTSTAMP:20260423T193646
CREATED:20251218T152456Z
LAST-MODIFIED:20251218T152458Z
UID:10007975-1901556000-1901563200@www.townofwhiteland.com
SUMMARY:Board of Zoning Appeals
DESCRIPTION:
URL:https://www.townofwhiteland.com/event/board-of-zoning-appeals-14/2030-04-04/
LOCATION:Town Hall\, 549 Main Street\, Whiteland\, IN\, 46184\, United States
CATEGORIES:Boards of Zoning Appeals
END:VEVENT
BEGIN:VEVENT
DTSTART;TZID=America/Indiana/Indianapolis:20300502T180000
DTEND;TZID=America/Indiana/Indianapolis:20300502T200000
DTSTAMP:20260423T193646
CREATED:20251218T152456Z
LAST-MODIFIED:20251218T152458Z
UID:10007976-1903975200-1903982400@www.townofwhiteland.com
SUMMARY:Board of Zoning Appeals
DESCRIPTION:
URL:https://www.townofwhiteland.com/event/board-of-zoning-appeals-14/2030-05-02/
LOCATION:Town Hall\, 549 Main Street\, Whiteland\, IN\, 46184\, United States
CATEGORIES:Boards of Zoning Appeals
END:VEVENT
BEGIN:VEVENT
DTSTART;TZID=America/Indiana/Indianapolis:20300606T180000
DTEND;TZID=America/Indiana/Indianapolis:20300606T200000
DTSTAMP:20260423T193646
CREATED:20251218T152456Z
LAST-MODIFIED:20251218T152458Z
UID:10007977-1906999200-1907006400@www.townofwhiteland.com
SUMMARY:Board of Zoning Appeals
DESCRIPTION:
URL:https://www.townofwhiteland.com/event/board-of-zoning-appeals-14/2030-06-06/
LOCATION:Town Hall\, 549 Main Street\, Whiteland\, IN\, 46184\, United States
CATEGORIES:Boards of Zoning Appeals
END:VEVENT
BEGIN:VEVENT
DTSTART;TZID=America/Indiana/Indianapolis:20300704T180000
DTEND;TZID=America/Indiana/Indianapolis:20300704T200000
DTSTAMP:20260423T193646
CREATED:20251218T152456Z
LAST-MODIFIED:20251218T152458Z
UID:10007978-1909418400-1909425600@www.townofwhiteland.com
SUMMARY:Board of Zoning Appeals
DESCRIPTION:
URL:https://www.townofwhiteland.com/event/board-of-zoning-appeals-14/2030-07-04/
LOCATION:Town Hall\, 549 Main Street\, Whiteland\, IN\, 46184\, United States
CATEGORIES:Boards of Zoning Appeals
END:VEVENT
BEGIN:VEVENT
DTSTART;TZID=America/Indiana/Indianapolis:20300801T180000
DTEND;TZID=America/Indiana/Indianapolis:20300801T200000
DTSTAMP:20260423T193646
CREATED:20251218T152456Z
LAST-MODIFIED:20251218T152458Z
UID:10007979-1911837600-1911844800@www.townofwhiteland.com
SUMMARY:Board of Zoning Appeals
DESCRIPTION:
URL:https://www.townofwhiteland.com/event/board-of-zoning-appeals-14/2030-08-01/
LOCATION:Town Hall\, 549 Main Street\, Whiteland\, IN\, 46184\, United States
CATEGORIES:Boards of Zoning Appeals
END:VEVENT
BEGIN:VEVENT
DTSTART;TZID=America/Indiana/Indianapolis:20300905T180000
DTEND;TZID=America/Indiana/Indianapolis:20300905T200000
DTSTAMP:20260423T193646
CREATED:20251218T152456Z
LAST-MODIFIED:20251218T152458Z
UID:10007980-1914861600-1914868800@www.townofwhiteland.com
SUMMARY:Board of Zoning Appeals
DESCRIPTION:
URL:https://www.townofwhiteland.com/event/board-of-zoning-appeals-14/2030-09-05/
LOCATION:Town Hall\, 549 Main Street\, Whiteland\, IN\, 46184\, United States
CATEGORIES:Boards of Zoning Appeals
END:VEVENT
BEGIN:VEVENT
DTSTART;TZID=America/Indiana/Indianapolis:20301003T180000
DTEND;TZID=America/Indiana/Indianapolis:20301003T200000
DTSTAMP:20260423T193646
CREATED:20251218T152456Z
LAST-MODIFIED:20251218T152458Z
UID:10007981-1917280800-1917288000@www.townofwhiteland.com
SUMMARY:Board of Zoning Appeals
DESCRIPTION:
URL:https://www.townofwhiteland.com/event/board-of-zoning-appeals-14/2030-10-03/
LOCATION:Town Hall\, 549 Main Street\, Whiteland\, IN\, 46184\, United States
CATEGORIES:Boards of Zoning Appeals
END:VEVENT
BEGIN:VEVENT
DTSTART;TZID=America/Indiana/Indianapolis:20301107T180000
DTEND;TZID=America/Indiana/Indianapolis:20301107T200000
DTSTAMP:20260423T193646
CREATED:20251218T152456Z
LAST-MODIFIED:20251218T152458Z
UID:10007982-1920304800-1920312000@www.townofwhiteland.com
SUMMARY:Board of Zoning Appeals
DESCRIPTION:
URL:https://www.townofwhiteland.com/event/board-of-zoning-appeals-14/2030-11-07/
LOCATION:Town Hall\, 549 Main Street\, Whiteland\, IN\, 46184\, United States
CATEGORIES:Boards of Zoning Appeals
END:VEVENT
BEGIN:VEVENT
DTSTART;TZID=America/Indiana/Indianapolis:20301205T180000
DTEND;TZID=America/Indiana/Indianapolis:20301205T200000
DTSTAMP:20260423T193646
CREATED:20251218T152456Z
LAST-MODIFIED:20251218T152458Z
UID:10007983-1922724000-1922731200@www.townofwhiteland.com
SUMMARY:Board of Zoning Appeals
DESCRIPTION:
URL:https://www.townofwhiteland.com/event/board-of-zoning-appeals-14/2030-12-05/
LOCATION:Town Hall\, 549 Main Street\, Whiteland\, IN\, 46184\, United States
CATEGORIES:Boards of Zoning Appeals
END:VEVENT
BEGIN:VEVENT
DTSTART;TZID=America/Indiana/Indianapolis:20310102T180000
DTEND;TZID=America/Indiana/Indianapolis:20310102T200000
DTSTAMP:20260423T193646
CREATED:20251218T152456Z
LAST-MODIFIED:20251218T152458Z
UID:10008171-1925143200-1925150400@www.townofwhiteland.com
SUMMARY:Board of Zoning Appeals
DESCRIPTION:
URL:https://www.townofwhiteland.com/event/board-of-zoning-appeals-14/2031-01-02/
LOCATION:Town Hall\, 549 Main Street\, Whiteland\, IN\, 46184\, United States
CATEGORIES:Boards of Zoning Appeals
END:VEVENT
BEGIN:VEVENT
DTSTART;TZID=America/Indiana/Indianapolis:20310206T180000
DTEND;TZID=America/Indiana/Indianapolis:20310206T200000
DTSTAMP:20260423T193646
CREATED:20251218T152456Z
LAST-MODIFIED:20251218T152458Z
UID:10008172-1928167200-1928174400@www.townofwhiteland.com
SUMMARY:Board of Zoning Appeals
DESCRIPTION:
URL:https://www.townofwhiteland.com/event/board-of-zoning-appeals-14/2031-02-06/
LOCATION:Town Hall\, 549 Main Street\, Whiteland\, IN\, 46184\, United States
CATEGORIES:Boards of Zoning Appeals
END:VEVENT
BEGIN:VEVENT
DTSTART;TZID=America/Indiana/Indianapolis:20310306T180000
DTEND;TZID=America/Indiana/Indianapolis:20310306T200000
DTSTAMP:20260423T193646
CREATED:20251218T152456Z
LAST-MODIFIED:20251218T152458Z
UID:10008238-1930586400-1930593600@www.townofwhiteland.com
SUMMARY:Board of Zoning Appeals
DESCRIPTION:
URL:https://www.townofwhiteland.com/event/board-of-zoning-appeals-14/2031-03-06/
LOCATION:Town Hall\, 549 Main Street\, Whiteland\, IN\, 46184\, United States
CATEGORIES:Boards of Zoning Appeals
END:VEVENT
END:VCALENDAR