BEGIN:VCALENDAR
VERSION:2.0
PRODID:-//Town of Whiteland - ECPv6.15.18//NONSGML v1.0//EN
CALSCALE:GREGORIAN
METHOD:PUBLISH
X-ORIGINAL-URL:https://www.townofwhiteland.com
X-WR-CALDESC:Events for Town of Whiteland
REFRESH-INTERVAL;VALUE=DURATION:PT1H
X-Robots-Tag:noindex
X-PUBLISHED-TTL:PT1H
BEGIN:VTIMEZONE
TZID:America/Indiana/Indianapolis
BEGIN:DAYLIGHT
TZOFFSETFROM:-0500
TZOFFSETTO:-0400
TZNAME:EDT
DTSTART:20260308T070000
END:DAYLIGHT
BEGIN:STANDARD
TZOFFSETFROM:-0400
TZOFFSETTO:-0500
TZNAME:EST
DTSTART:20261101T060000
END:STANDARD
BEGIN:DAYLIGHT
TZOFFSETFROM:-0500
TZOFFSETTO:-0400
TZNAME:EDT
DTSTART:20270314T070000
END:DAYLIGHT
BEGIN:STANDARD
TZOFFSETFROM:-0400
TZOFFSETTO:-0500
TZNAME:EST
DTSTART:20271107T060000
END:STANDARD
BEGIN:DAYLIGHT
TZOFFSETFROM:-0500
TZOFFSETTO:-0400
TZNAME:EDT
DTSTART:20280312T070000
END:DAYLIGHT
BEGIN:STANDARD
TZOFFSETFROM:-0400
TZOFFSETTO:-0500
TZNAME:EST
DTSTART:20281105T060000
END:STANDARD
BEGIN:DAYLIGHT
TZOFFSETFROM:-0500
TZOFFSETTO:-0400
TZNAME:EDT
DTSTART:20290311T070000
END:DAYLIGHT
BEGIN:STANDARD
TZOFFSETFROM:-0400
TZOFFSETTO:-0500
TZNAME:EST
DTSTART:20291104T060000
END:STANDARD
BEGIN:DAYLIGHT
TZOFFSETFROM:-0500
TZOFFSETTO:-0400
TZNAME:EDT
DTSTART:20300310T070000
END:DAYLIGHT
BEGIN:STANDARD
TZOFFSETFROM:-0400
TZOFFSETTO:-0500
TZNAME:EST
DTSTART:20301103T060000
END:STANDARD
END:VTIMEZONE
BEGIN:VEVENT
DTSTART;VALUE=DATE:20270607
DTEND;VALUE=DATE:20270608
DTSTAMP:20260423T080956
CREATED:20220118T215834Z
LAST-MODIFIED:20250825T143606Z
UID:10007547-1812326400-1812412799@www.townofwhiteland.com
SUMMARY:Heavy Trash
DESCRIPTION:
URL:https://www.townofwhiteland.com/event/heavy-trash-3/2027-06-07/
CATEGORIES:Heavy Trash
END:VEVENT
BEGIN:VEVENT
DTSTART;VALUE=DATE:20270705
DTEND;VALUE=DATE:20270706
DTSTAMP:20260423T080956
CREATED:20220118T215834Z
LAST-MODIFIED:20250825T143606Z
UID:10007548-1814745600-1814831999@www.townofwhiteland.com
SUMMARY:Heavy Trash
DESCRIPTION:
URL:https://www.townofwhiteland.com/event/heavy-trash-3/2027-07-05/
CATEGORIES:Heavy Trash
END:VEVENT
BEGIN:VEVENT
DTSTART;VALUE=DATE:20270802
DTEND;VALUE=DATE:20270803
DTSTAMP:20260423T080956
CREATED:20220118T215834Z
LAST-MODIFIED:20250825T143606Z
UID:10007549-1817164800-1817251199@www.townofwhiteland.com
SUMMARY:Heavy Trash
DESCRIPTION:
URL:https://www.townofwhiteland.com/event/heavy-trash-3/2027-08-02/
CATEGORIES:Heavy Trash
END:VEVENT
BEGIN:VEVENT
DTSTART;VALUE=DATE:20270906
DTEND;VALUE=DATE:20270907
DTSTAMP:20260423T080956
CREATED:20220118T215834Z
LAST-MODIFIED:20250825T143606Z
UID:10007550-1820188800-1820275199@www.townofwhiteland.com
SUMMARY:Heavy Trash
DESCRIPTION:
URL:https://www.townofwhiteland.com/event/heavy-trash-3/2027-09-06/
CATEGORIES:Heavy Trash
END:VEVENT
BEGIN:VEVENT
DTSTART;VALUE=DATE:20271004
DTEND;VALUE=DATE:20271005
DTSTAMP:20260423T080956
CREATED:20220118T215834Z
LAST-MODIFIED:20250825T143606Z
UID:10007551-1822608000-1822694399@www.townofwhiteland.com
SUMMARY:Heavy Trash
DESCRIPTION:
URL:https://www.townofwhiteland.com/event/heavy-trash-3/2027-10-04/
CATEGORIES:Heavy Trash
END:VEVENT
BEGIN:VEVENT
DTSTART;VALUE=DATE:20271101
DTEND;VALUE=DATE:20271102
DTSTAMP:20260423T080956
CREATED:20220118T215834Z
LAST-MODIFIED:20250825T143606Z
UID:10007552-1825027200-1825113599@www.townofwhiteland.com
SUMMARY:Heavy Trash
DESCRIPTION:
URL:https://www.townofwhiteland.com/event/heavy-trash-3/2027-11-01/
CATEGORIES:Heavy Trash
END:VEVENT
BEGIN:VEVENT
DTSTART;VALUE=DATE:20271206
DTEND;VALUE=DATE:20271207
DTSTAMP:20260423T080956
CREATED:20220118T215834Z
LAST-MODIFIED:20250825T143606Z
UID:10007553-1828051200-1828137599@www.townofwhiteland.com
SUMMARY:Heavy Trash
DESCRIPTION:
URL:https://www.townofwhiteland.com/event/heavy-trash-3/2027-12-06/
CATEGORIES:Heavy Trash
END:VEVENT
BEGIN:VEVENT
DTSTART;VALUE=DATE:20280103
DTEND;VALUE=DATE:20280104
DTSTAMP:20260423T080956
CREATED:20220118T215834Z
LAST-MODIFIED:20250825T143606Z
UID:10007554-1830470400-1830556799@www.townofwhiteland.com
SUMMARY:Heavy Trash
DESCRIPTION:
URL:https://www.townofwhiteland.com/event/heavy-trash-3/2028-01-03/
CATEGORIES:Heavy Trash
END:VEVENT
BEGIN:VEVENT
DTSTART;VALUE=DATE:20280207
DTEND;VALUE=DATE:20280208
DTSTAMP:20260423T080956
CREATED:20220118T215834Z
LAST-MODIFIED:20250825T143606Z
UID:10007555-1833494400-1833580799@www.townofwhiteland.com
SUMMARY:Heavy Trash
DESCRIPTION:
URL:https://www.townofwhiteland.com/event/heavy-trash-3/2028-02-07/
CATEGORIES:Heavy Trash
END:VEVENT
BEGIN:VEVENT
DTSTART;VALUE=DATE:20280306
DTEND;VALUE=DATE:20280307
DTSTAMP:20260423T080956
CREATED:20220118T215834Z
LAST-MODIFIED:20250825T143606Z
UID:10007556-1835913600-1835999999@www.townofwhiteland.com
SUMMARY:Heavy Trash
DESCRIPTION:
URL:https://www.townofwhiteland.com/event/heavy-trash-3/2028-03-06/
CATEGORIES:Heavy Trash
END:VEVENT
BEGIN:VEVENT
DTSTART;VALUE=DATE:20280403
DTEND;VALUE=DATE:20280404
DTSTAMP:20260423T080956
CREATED:20220118T215834Z
LAST-MODIFIED:20250825T143606Z
UID:10007557-1838332800-1838419199@www.townofwhiteland.com
SUMMARY:Heavy Trash
DESCRIPTION:
URL:https://www.townofwhiteland.com/event/heavy-trash-3/2028-04-03/
CATEGORIES:Heavy Trash
END:VEVENT
BEGIN:VEVENT
DTSTART;VALUE=DATE:20280501
DTEND;VALUE=DATE:20280502
DTSTAMP:20260423T080956
CREATED:20220118T215834Z
LAST-MODIFIED:20250825T143606Z
UID:10007558-1840752000-1840838399@www.townofwhiteland.com
SUMMARY:Heavy Trash
DESCRIPTION:
URL:https://www.townofwhiteland.com/event/heavy-trash-3/2028-05-01/
CATEGORIES:Heavy Trash
END:VEVENT
BEGIN:VEVENT
DTSTART;VALUE=DATE:20280605
DTEND;VALUE=DATE:20280606
DTSTAMP:20260423T080956
CREATED:20220118T215834Z
LAST-MODIFIED:20250825T143606Z
UID:10007559-1843776000-1843862399@www.townofwhiteland.com
SUMMARY:Heavy Trash
DESCRIPTION:
URL:https://www.townofwhiteland.com/event/heavy-trash-3/2028-06-05/
CATEGORIES:Heavy Trash
END:VEVENT
BEGIN:VEVENT
DTSTART;VALUE=DATE:20280703
DTEND;VALUE=DATE:20280704
DTSTAMP:20260423T080956
CREATED:20220118T215834Z
LAST-MODIFIED:20250825T143606Z
UID:10007560-1846195200-1846281599@www.townofwhiteland.com
SUMMARY:Heavy Trash
DESCRIPTION:
URL:https://www.townofwhiteland.com/event/heavy-trash-3/2028-07-03/
CATEGORIES:Heavy Trash
END:VEVENT
BEGIN:VEVENT
DTSTART;VALUE=DATE:20280807
DTEND;VALUE=DATE:20280808
DTSTAMP:20260423T080956
CREATED:20220118T215834Z
LAST-MODIFIED:20250825T143606Z
UID:10007561-1849219200-1849305599@www.townofwhiteland.com
SUMMARY:Heavy Trash
DESCRIPTION:
URL:https://www.townofwhiteland.com/event/heavy-trash-3/2028-08-07/
CATEGORIES:Heavy Trash
END:VEVENT
BEGIN:VEVENT
DTSTART;VALUE=DATE:20280904
DTEND;VALUE=DATE:20280905
DTSTAMP:20260423T080956
CREATED:20220118T215834Z
LAST-MODIFIED:20250825T143606Z
UID:10007562-1851638400-1851724799@www.townofwhiteland.com
SUMMARY:Heavy Trash
DESCRIPTION:
URL:https://www.townofwhiteland.com/event/heavy-trash-3/2028-09-04/
CATEGORIES:Heavy Trash
END:VEVENT
BEGIN:VEVENT
DTSTART;VALUE=DATE:20281002
DTEND;VALUE=DATE:20281003
DTSTAMP:20260423T080956
CREATED:20220118T215834Z
LAST-MODIFIED:20250825T143606Z
UID:10007563-1854057600-1854143999@www.townofwhiteland.com
SUMMARY:Heavy Trash
DESCRIPTION:
URL:https://www.townofwhiteland.com/event/heavy-trash-3/2028-10-02/
CATEGORIES:Heavy Trash
END:VEVENT
BEGIN:VEVENT
DTSTART;VALUE=DATE:20281106
DTEND;VALUE=DATE:20281107
DTSTAMP:20260423T080956
CREATED:20220118T215834Z
LAST-MODIFIED:20250825T143606Z
UID:10007564-1857081600-1857167999@www.townofwhiteland.com
SUMMARY:Heavy Trash
DESCRIPTION:
URL:https://www.townofwhiteland.com/event/heavy-trash-3/2028-11-06/
CATEGORIES:Heavy Trash
END:VEVENT
BEGIN:VEVENT
DTSTART;VALUE=DATE:20281204
DTEND;VALUE=DATE:20281205
DTSTAMP:20260423T080956
CREATED:20220118T215834Z
LAST-MODIFIED:20250825T143606Z
UID:10007565-1859500800-1859587199@www.townofwhiteland.com
SUMMARY:Heavy Trash
DESCRIPTION:
URL:https://www.townofwhiteland.com/event/heavy-trash-3/2028-12-04/
CATEGORIES:Heavy Trash
END:VEVENT
BEGIN:VEVENT
DTSTART;VALUE=DATE:20290101
DTEND;VALUE=DATE:20290102
DTSTAMP:20260423T080956
CREATED:20220118T215834Z
LAST-MODIFIED:20250825T143606Z
UID:10007566-1861920000-1862006399@www.townofwhiteland.com
SUMMARY:Heavy Trash
DESCRIPTION:
URL:https://www.townofwhiteland.com/event/heavy-trash-3/2029-01-01/
CATEGORIES:Heavy Trash
END:VEVENT
BEGIN:VEVENT
DTSTART;VALUE=DATE:20290205
DTEND;VALUE=DATE:20290206
DTSTAMP:20260423T080956
CREATED:20220118T215834Z
LAST-MODIFIED:20250825T143606Z
UID:10007567-1864944000-1865030399@www.townofwhiteland.com
SUMMARY:Heavy Trash
DESCRIPTION:
URL:https://www.townofwhiteland.com/event/heavy-trash-3/2029-02-05/
CATEGORIES:Heavy Trash
END:VEVENT
BEGIN:VEVENT
DTSTART;VALUE=DATE:20290305
DTEND;VALUE=DATE:20290306
DTSTAMP:20260423T080956
CREATED:20220118T215834Z
LAST-MODIFIED:20250825T143606Z
UID:10007568-1867363200-1867449599@www.townofwhiteland.com
SUMMARY:Heavy Trash
DESCRIPTION:
URL:https://www.townofwhiteland.com/event/heavy-trash-3/2029-03-05/
CATEGORIES:Heavy Trash
END:VEVENT
BEGIN:VEVENT
DTSTART;VALUE=DATE:20290402
DTEND;VALUE=DATE:20290403
DTSTAMP:20260423T080956
CREATED:20220118T215834Z
LAST-MODIFIED:20250825T143606Z
UID:10007569-1869782400-1869868799@www.townofwhiteland.com
SUMMARY:Heavy Trash
DESCRIPTION:
URL:https://www.townofwhiteland.com/event/heavy-trash-3/2029-04-02/
CATEGORIES:Heavy Trash
END:VEVENT
BEGIN:VEVENT
DTSTART;VALUE=DATE:20290507
DTEND;VALUE=DATE:20290508
DTSTAMP:20260423T080956
CREATED:20220118T215834Z
LAST-MODIFIED:20250825T143606Z
UID:10007570-1872806400-1872892799@www.townofwhiteland.com
SUMMARY:Heavy Trash
DESCRIPTION:
URL:https://www.townofwhiteland.com/event/heavy-trash-3/2029-05-07/
CATEGORIES:Heavy Trash
END:VEVENT
BEGIN:VEVENT
DTSTART;VALUE=DATE:20290604
DTEND;VALUE=DATE:20290605
DTSTAMP:20260423T080956
CREATED:20220118T215834Z
LAST-MODIFIED:20250825T143606Z
UID:10007571-1875225600-1875311999@www.townofwhiteland.com
SUMMARY:Heavy Trash
DESCRIPTION:
URL:https://www.townofwhiteland.com/event/heavy-trash-3/2029-06-04/
CATEGORIES:Heavy Trash
END:VEVENT
BEGIN:VEVENT
DTSTART;VALUE=DATE:20290702
DTEND;VALUE=DATE:20290703
DTSTAMP:20260423T080956
CREATED:20220118T215834Z
LAST-MODIFIED:20250825T143606Z
UID:10007572-1877644800-1877731199@www.townofwhiteland.com
SUMMARY:Heavy Trash
DESCRIPTION:
URL:https://www.townofwhiteland.com/event/heavy-trash-3/2029-07-02/
CATEGORIES:Heavy Trash
END:VEVENT
BEGIN:VEVENT
DTSTART;VALUE=DATE:20290806
DTEND;VALUE=DATE:20290807
DTSTAMP:20260423T080956
CREATED:20220118T215834Z
LAST-MODIFIED:20250825T143606Z
UID:10007573-1880668800-1880755199@www.townofwhiteland.com
SUMMARY:Heavy Trash
DESCRIPTION:
URL:https://www.townofwhiteland.com/event/heavy-trash-3/2029-08-06/
CATEGORIES:Heavy Trash
END:VEVENT
BEGIN:VEVENT
DTSTART;VALUE=DATE:20290903
DTEND;VALUE=DATE:20290904
DTSTAMP:20260423T080956
CREATED:20220118T215834Z
LAST-MODIFIED:20250825T143606Z
UID:10007574-1883088000-1883174399@www.townofwhiteland.com
SUMMARY:Heavy Trash
DESCRIPTION:
URL:https://www.townofwhiteland.com/event/heavy-trash-3/2029-09-03/
CATEGORIES:Heavy Trash
END:VEVENT
BEGIN:VEVENT
DTSTART;VALUE=DATE:20291001
DTEND;VALUE=DATE:20291002
DTSTAMP:20260423T080956
CREATED:20220118T215834Z
LAST-MODIFIED:20250825T143606Z
UID:10007575-1885507200-1885593599@www.townofwhiteland.com
SUMMARY:Heavy Trash
DESCRIPTION:
URL:https://www.townofwhiteland.com/event/heavy-trash-3/2029-10-01/
CATEGORIES:Heavy Trash
END:VEVENT
BEGIN:VEVENT
DTSTART;VALUE=DATE:20291105
DTEND;VALUE=DATE:20291106
DTSTAMP:20260423T080956
CREATED:20220118T215834Z
LAST-MODIFIED:20250825T143606Z
UID:10007576-1888531200-1888617599@www.townofwhiteland.com
SUMMARY:Heavy Trash
DESCRIPTION:
URL:https://www.townofwhiteland.com/event/heavy-trash-3/2029-11-05/
CATEGORIES:Heavy Trash
END:VEVENT
END:VCALENDAR