BEGIN:VCALENDAR
VERSION:2.0
PRODID:-//Town of Whiteland - ECPv6.15.18//NONSGML v1.0//EN
CALSCALE:GREGORIAN
METHOD:PUBLISH
X-ORIGINAL-URL:https://www.townofwhiteland.com
X-WR-CALDESC:Events for Town of Whiteland
REFRESH-INTERVAL;VALUE=DURATION:PT1H
X-Robots-Tag:noindex
X-PUBLISHED-TTL:PT1H
BEGIN:VTIMEZONE
TZID:America/Indiana/Indianapolis
BEGIN:DAYLIGHT
TZOFFSETFROM:-0500
TZOFFSETTO:-0400
TZNAME:EDT
DTSTART:20240310T070000
END:DAYLIGHT
BEGIN:STANDARD
TZOFFSETFROM:-0400
TZOFFSETTO:-0500
TZNAME:EST
DTSTART:20241103T060000
END:STANDARD
BEGIN:DAYLIGHT
TZOFFSETFROM:-0500
TZOFFSETTO:-0400
TZNAME:EDT
DTSTART:20250309T070000
END:DAYLIGHT
BEGIN:STANDARD
TZOFFSETFROM:-0400
TZOFFSETTO:-0500
TZNAME:EST
DTSTART:20251102T060000
END:STANDARD
BEGIN:DAYLIGHT
TZOFFSETFROM:-0500
TZOFFSETTO:-0400
TZNAME:EDT
DTSTART:20260308T070000
END:DAYLIGHT
BEGIN:STANDARD
TZOFFSETFROM:-0400
TZOFFSETTO:-0500
TZNAME:EST
DTSTART:20261101T060000
END:STANDARD
END:VTIMEZONE
BEGIN:VEVENT
DTSTART;VALUE=DATE:20250428
DTEND;VALUE=DATE:20250429
DTSTAMP:20260424T044513
CREATED:20230823T151040Z
LAST-MODIFIED:20250825T143444Z
UID:10005536-1745798400-1745884799@www.townofwhiteland.com
SUMMARY:Trash
DESCRIPTION:
URL:https://www.townofwhiteland.com/event/trash-4/2025-04-28/
LOCATION:IN
CATEGORIES:Trash
END:VEVENT
BEGIN:VEVENT
DTSTART;VALUE=DATE:20250429
DTEND;VALUE=DATE:20250430
DTSTAMP:20260424T044513
CREATED:20230823T151040Z
LAST-MODIFIED:20250825T143444Z
UID:10005537-1745884800-1745971199@www.townofwhiteland.com
SUMMARY:Trash
DESCRIPTION:
URL:https://www.townofwhiteland.com/event/trash-4/2025-04-29/
LOCATION:IN
CATEGORIES:Trash
END:VEVENT
BEGIN:VEVENT
DTSTART;VALUE=DATE:20250501
DTEND;VALUE=DATE:20250502
DTSTAMP:20260424T044513
CREATED:20250421T171726Z
LAST-MODIFIED:20250421T171730Z
UID:10006241-1746057600-1746143999@www.townofwhiteland.com
SUMMARY:Meter Read
DESCRIPTION:
URL:https://www.townofwhiteland.com/event/meter-read-2022-02-01-2-2-2/
LOCATION:IN
CATEGORIES:Meter Read
ORGANIZER;CN="Town of Whiteland":MAILTO:adminasst@whiteland.in.us
END:VEVENT
BEGIN:VEVENT
DTSTART;TZID=America/Indiana/Indianapolis:20250501T190000
DTEND;TZID=America/Indiana/Indianapolis:20250501T200000
DTSTAMP:20260424T044513
CREATED:20201211T185306Z
LAST-MODIFIED:20250627T142355Z
UID:10002936-1746126000-1746129600@www.townofwhiteland.com
SUMMARY:Board of Zoning Appeals
DESCRIPTION:
URL:https://www.townofwhiteland.com/event/board-of-zoning-appeals/2025-05-01/
LOCATION:Town Hall\, 549 Main Street\, Whiteland\, IN\, 46184\, United States
CATEGORIES:Boards of Zoning Appeals
END:VEVENT
BEGIN:VEVENT
DTSTART;TZID=America/Indiana/Indianapolis:20250503T080000
DTEND;TZID=America/Indiana/Indianapolis:20250503T120000
DTSTAMP:20260424T044513
CREATED:20250404T172500Z
LAST-MODIFIED:20250404T172500Z
UID:10006553-1746259200-1746273600@www.townofwhiteland.com
SUMMARY:Community Clean-up Day
DESCRIPTION:
URL:https://www.townofwhiteland.com/event/community-clean-up-day-3/
LOCATION:Clark Pleasant Bus Garage\, 999 N. Front St\, Whiteland\, Indiana\, 46184
END:VEVENT
END:VCALENDAR