BEGIN:VCALENDAR
VERSION:2.0
PRODID:-//Town of Whiteland - ECPv6.15.18//NONSGML v1.0//EN
CALSCALE:GREGORIAN
METHOD:PUBLISH
X-WR-CALNAME:Town of Whiteland
X-ORIGINAL-URL:https://www.townofwhiteland.com
X-WR-CALDESC:Events for Town of Whiteland
REFRESH-INTERVAL;VALUE=DURATION:PT1H
X-Robots-Tag:noindex
X-PUBLISHED-TTL:PT1H
BEGIN:VTIMEZONE
TZID:America/Indiana/Indianapolis
BEGIN:DAYLIGHT
TZOFFSETFROM:-0500
TZOFFSETTO:-0400
TZNAME:EDT
DTSTART:20240310T070000
END:DAYLIGHT
BEGIN:STANDARD
TZOFFSETFROM:-0400
TZOFFSETTO:-0500
TZNAME:EST
DTSTART:20241103T060000
END:STANDARD
BEGIN:DAYLIGHT
TZOFFSETFROM:-0500
TZOFFSETTO:-0400
TZNAME:EDT
DTSTART:20250309T070000
END:DAYLIGHT
BEGIN:STANDARD
TZOFFSETFROM:-0400
TZOFFSETTO:-0500
TZNAME:EST
DTSTART:20251102T060000
END:STANDARD
BEGIN:DAYLIGHT
TZOFFSETFROM:-0500
TZOFFSETTO:-0400
TZNAME:EDT
DTSTART:20260308T070000
END:DAYLIGHT
BEGIN:STANDARD
TZOFFSETFROM:-0400
TZOFFSETTO:-0500
TZNAME:EST
DTSTART:20261101T060000
END:STANDARD
END:VTIMEZONE
BEGIN:VEVENT
DTSTART;VALUE=DATE:20250929
DTEND;VALUE=DATE:20250930
DTSTAMP:20260421T100650
CREATED:20230823T151040Z
LAST-MODIFIED:20250825T143444Z
UID:10005580-1759104000-1759190399@www.townofwhiteland.com
SUMMARY:Trash
DESCRIPTION:
URL:https://www.townofwhiteland.com/event/trash-4/2025-09-29/
LOCATION:IN
CATEGORIES:Trash
END:VEVENT
BEGIN:VEVENT
DTSTART;VALUE=DATE:20250930
DTEND;VALUE=DATE:20251001
DTSTAMP:20260421T100650
CREATED:20230823T151040Z
LAST-MODIFIED:20250825T143444Z
UID:10005581-1759190400-1759276799@www.townofwhiteland.com
SUMMARY:Trash
DESCRIPTION:
URL:https://www.townofwhiteland.com/event/trash-4/2025-09-30/
LOCATION:IN
CATEGORIES:Trash
END:VEVENT
BEGIN:VEVENT
DTSTART;TZID=America/Indiana/Indianapolis:20250930T190000
DTEND;TZID=America/Indiana/Indianapolis:20250930T193000
DTSTAMP:20260421T100650
CREATED:20250926T145853Z
LAST-MODIFIED:20250926T145853Z
UID:10007720-1759258800-1759260600@www.townofwhiteland.com
SUMMARY:Town Council
DESCRIPTION:
URL:https://www.townofwhiteland.com/event/town-council-2023-02-14-4-2-2-2/
LOCATION:Town Hall\, 549 Main Street\, Whiteland\, IN\, 46184\, United States
CATEGORIES:Town Council
ORGANIZER;CN="Town of Whiteland":MAILTO:adminasst@whiteland.in.us
END:VEVENT
BEGIN:VEVENT
DTSTART;TZID=America/Indiana/Indianapolis:20251001T180000
DTEND;TZID=America/Indiana/Indianapolis:20251001T190000
DTSTAMP:20260421T100650
CREATED:20251003T172142Z
LAST-MODIFIED:20251003T172522Z
UID:10007413-1759341600-1759345200@www.townofwhiteland.com
SUMMARY:Parks Board
DESCRIPTION:
URL:https://www.townofwhiteland.com/event/parks-board-4-2/2025-10-01/
LOCATION:
CATEGORIES:Parks Board
END:VEVENT
BEGIN:VEVENT
DTSTART;TZID=America/Indiana/Indianapolis:20251002T190000
DTEND;TZID=America/Indiana/Indianapolis:20251002T200000
DTSTAMP:20260421T100650
CREATED:20251001T193400Z
LAST-MODIFIED:20251001T193401Z
UID:10002941-1759431600-1759435200@www.townofwhiteland.com
SUMMARY:Board of Zoning Appeals - Cancelled
DESCRIPTION:
URL:https://www.townofwhiteland.com/event/board-of-zoning-appeals-12/
LOCATION:Town Hall\, 549 Main Street\, Whiteland\, IN\, 46184\, United States
CATEGORIES:Boards of Zoning Appeals
END:VEVENT
END:VCALENDAR