BEGIN:VCALENDAR
VERSION:2.0
PRODID:-//Town of Whiteland - ECPv6.15.18//NONSGML v1.0//EN
CALSCALE:GREGORIAN
METHOD:PUBLISH
X-ORIGINAL-URL:https://www.townofwhiteland.com
X-WR-CALDESC:Events for Town of Whiteland
REFRESH-INTERVAL;VALUE=DURATION:PT1H
X-Robots-Tag:noindex
X-PUBLISHED-TTL:PT1H
BEGIN:VTIMEZONE
TZID:America/Indiana/Indianapolis
BEGIN:DAYLIGHT
TZOFFSETFROM:-0500
TZOFFSETTO:-0400
TZNAME:EDT
DTSTART:20250309T070000
END:DAYLIGHT
BEGIN:STANDARD
TZOFFSETFROM:-0400
TZOFFSETTO:-0500
TZNAME:EST
DTSTART:20251102T060000
END:STANDARD
BEGIN:DAYLIGHT
TZOFFSETFROM:-0500
TZOFFSETTO:-0400
TZNAME:EDT
DTSTART:20260308T070000
END:DAYLIGHT
BEGIN:STANDARD
TZOFFSETFROM:-0400
TZOFFSETTO:-0500
TZNAME:EST
DTSTART:20261101T060000
END:STANDARD
BEGIN:DAYLIGHT
TZOFFSETFROM:-0500
TZOFFSETTO:-0400
TZNAME:EDT
DTSTART:20270314T070000
END:DAYLIGHT
BEGIN:STANDARD
TZOFFSETFROM:-0400
TZOFFSETTO:-0500
TZNAME:EST
DTSTART:20271107T060000
END:STANDARD
END:VTIMEZONE
BEGIN:VEVENT
DTSTART;VALUE=DATE:20260330
DTEND;VALUE=DATE:20260331
DTSTAMP:20260424T153543
CREATED:20230823T151040Z
LAST-MODIFIED:20250825T143444Z
UID:10005632-1774828800-1774915199@www.townofwhiteland.com
SUMMARY:Trash
DESCRIPTION:
URL:https://www.townofwhiteland.com/event/trash-4/2026-03-30/
LOCATION:IN
CATEGORIES:Trash
END:VEVENT
BEGIN:VEVENT
DTSTART;VALUE=DATE:20260331
DTEND;VALUE=DATE:20260401
DTSTAMP:20260424T153543
CREATED:20230823T151040Z
LAST-MODIFIED:20250825T143444Z
UID:10005633-1774915200-1775001599@www.townofwhiteland.com
SUMMARY:Trash
DESCRIPTION:
URL:https://www.townofwhiteland.com/event/trash-4/2026-03-31/
LOCATION:IN
CATEGORIES:Trash
END:VEVENT
BEGIN:VEVENT
DTSTART;TZID=America/Indiana/Indianapolis:20260401T180000
DTEND;TZID=America/Indiana/Indianapolis:20260401T190000
DTSTAMP:20260424T153543
CREATED:20251003T172142Z
LAST-MODIFIED:20251003T172522Z
UID:10007419-1775066400-1775070000@www.townofwhiteland.com
SUMMARY:Parks Board
DESCRIPTION:
URL:https://www.townofwhiteland.com/event/parks-board-4-2/2026-04-01/
LOCATION:
CATEGORIES:Parks Board
END:VEVENT
BEGIN:VEVENT
DTSTART;TZID=America/Indiana/Indianapolis:20260402T180000
DTEND;TZID=America/Indiana/Indianapolis:20260402T190000
DTSTAMP:20260424T153543
CREATED:20260326T141008Z
LAST-MODIFIED:20260326T141008Z
UID:10008239-1775152800-1775156400@www.townofwhiteland.com
SUMMARY:Board of Zoning Appeals - Cancelled
DESCRIPTION:
URL:https://www.townofwhiteland.com/event/board-of-zoning-appeals-cancelled-2/
LOCATION:IN
CATEGORIES:Boards of Zoning Appeals
END:VEVENT
BEGIN:VEVENT
DTSTART;VALUE=DATE:20260403
DTEND;VALUE=DATE:20260404
DTSTAMP:20260424T153543
CREATED:20260325T174712Z
LAST-MODIFIED:20260325T174712Z
UID:10008237-1775174400-1775260799@www.townofwhiteland.com
SUMMARY:Good Friday - Town Hall Closed
DESCRIPTION:
URL:https://www.townofwhiteland.com/event/good-friday-town-hall-closed-5/
LOCATION:IN
CATEGORIES:Closed
END:VEVENT
END:VCALENDAR