BEGIN:VCALENDAR
VERSION:2.0
PRODID:-//Town of Whiteland - ECPv6.15.18//NONSGML v1.0//EN
CALSCALE:GREGORIAN
METHOD:PUBLISH
X-ORIGINAL-URL:https://www.townofwhiteland.com
X-WR-CALDESC:Events for Town of Whiteland
REFRESH-INTERVAL;VALUE=DURATION:PT1H
X-Robots-Tag:noindex
X-PUBLISHED-TTL:PT1H
BEGIN:VTIMEZONE
TZID:America/Indiana/Indianapolis
BEGIN:DAYLIGHT
TZOFFSETFROM:-0500
TZOFFSETTO:-0400
TZNAME:EDT
DTSTART:20250309T070000
END:DAYLIGHT
BEGIN:STANDARD
TZOFFSETFROM:-0400
TZOFFSETTO:-0500
TZNAME:EST
DTSTART:20251102T060000
END:STANDARD
BEGIN:DAYLIGHT
TZOFFSETFROM:-0500
TZOFFSETTO:-0400
TZNAME:EDT
DTSTART:20260308T070000
END:DAYLIGHT
BEGIN:STANDARD
TZOFFSETFROM:-0400
TZOFFSETTO:-0500
TZNAME:EST
DTSTART:20261101T060000
END:STANDARD
BEGIN:DAYLIGHT
TZOFFSETFROM:-0500
TZOFFSETTO:-0400
TZNAME:EDT
DTSTART:20270314T070000
END:DAYLIGHT
BEGIN:STANDARD
TZOFFSETFROM:-0400
TZOFFSETTO:-0500
TZNAME:EST
DTSTART:20271107T060000
END:STANDARD
END:VTIMEZONE
BEGIN:VEVENT
DTSTART;VALUE=DATE:20260601
DTEND;VALUE=DATE:20260602
DTSTAMP:20260423T185442
CREATED:20220118T215834Z
LAST-MODIFIED:20250825T143606Z
UID:10007535-1780272000-1780358399@www.townofwhiteland.com
SUMMARY:Heavy Trash
DESCRIPTION:
URL:https://www.townofwhiteland.com/event/heavy-trash-3/2026-06-01/
LOCATION:IN
CATEGORIES:Heavy Trash
END:VEVENT
BEGIN:VEVENT
DTSTART;VALUE=DATE:20260601
DTEND;VALUE=DATE:20260602
DTSTAMP:20260423T185442
CREATED:20220118T220934Z
LAST-MODIFIED:20231228T134618Z
UID:10003744-1780272000-1780358399@www.townofwhiteland.com
SUMMARY:Recycle
DESCRIPTION:
URL:https://www.townofwhiteland.com/event/recycle/2026-06-01/
LOCATION:IN
CATEGORIES:Recycle
END:VEVENT
BEGIN:VEVENT
DTSTART;VALUE=DATE:20260601
DTEND;VALUE=DATE:20260602
DTSTAMP:20260423T185442
CREATED:20230823T151040Z
LAST-MODIFIED:20250825T143444Z
UID:10005650-1780272000-1780358399@www.townofwhiteland.com
SUMMARY:Trash
DESCRIPTION:
URL:https://www.townofwhiteland.com/event/trash-4/2026-06-01/
LOCATION:IN
CATEGORIES:Trash
END:VEVENT
BEGIN:VEVENT
DTSTART;VALUE=DATE:20260602
DTEND;VALUE=DATE:20260603
DTSTAMP:20260423T185442
CREATED:20220118T220934Z
LAST-MODIFIED:20231228T134618Z
UID:10003745-1780358400-1780444799@www.townofwhiteland.com
SUMMARY:Recycle
DESCRIPTION:
URL:https://www.townofwhiteland.com/event/recycle/2026-06-02/
LOCATION:IN
CATEGORIES:Recycle
END:VEVENT
BEGIN:VEVENT
DTSTART;VALUE=DATE:20260602
DTEND;VALUE=DATE:20260603
DTSTAMP:20260423T185442
CREATED:20230823T151040Z
LAST-MODIFIED:20250825T143444Z
UID:10005651-1780358400-1780444799@www.townofwhiteland.com
SUMMARY:Trash
DESCRIPTION:
URL:https://www.townofwhiteland.com/event/trash-4/2026-06-02/
LOCATION:IN
CATEGORIES:Trash
END:VEVENT
BEGIN:VEVENT
DTSTART;TZID=America/Indiana/Indianapolis:20260602T190000
DTEND;TZID=America/Indiana/Indianapolis:20260602T200000
DTSTAMP:20260423T185442
CREATED:20250627T142049Z
LAST-MODIFIED:20250627T142050Z
UID:10007242-1780426800-1780430400@www.townofwhiteland.com
SUMMARY:Plan Commission
DESCRIPTION:
URL:https://www.townofwhiteland.com/event/plan-commission-15/2026-06-02/
LOCATION:Town Hall\, 549 Main Street\, Whiteland\, IN\, 46184\, United States
END:VEVENT
BEGIN:VEVENT
DTSTART;TZID=America/Indiana/Indianapolis:20260603T180000
DTEND;TZID=America/Indiana/Indianapolis:20260603T190000
DTSTAMP:20260423T185442
CREATED:20251003T172142Z
LAST-MODIFIED:20251003T172522Z
UID:10007421-1780509600-1780513200@www.townofwhiteland.com
SUMMARY:Parks Board
DESCRIPTION:
URL:https://www.townofwhiteland.com/event/parks-board-4-2/2026-06-03/
LOCATION:
CATEGORIES:Parks Board
END:VEVENT
BEGIN:VEVENT
DTSTART;TZID=America/Indiana/Indianapolis:20260604T180000
DTEND;TZID=America/Indiana/Indianapolis:20260604T200000
DTSTAMP:20260423T185442
CREATED:20251218T152456Z
LAST-MODIFIED:20251218T152458Z
UID:10007929-1780596000-1780603200@www.townofwhiteland.com
SUMMARY:Board of Zoning Appeals
DESCRIPTION:
URL:https://www.townofwhiteland.com/event/board-of-zoning-appeals-14/2026-06-04/
LOCATION:Town Hall\, 549 Main Street\, Whiteland\, IN\, 46184\, United States
CATEGORIES:Boards of Zoning Appeals
END:VEVENT
BEGIN:VEVENT
DTSTART;VALUE=DATE:20260605
DTEND;VALUE=DATE:20260606
DTSTAMP:20260423T185442
CREATED:20260415T154838Z
LAST-MODIFIED:20260415T154838Z
UID:10008310-1780617600-1780703999@www.townofwhiteland.com
SUMMARY:Meter Read
DESCRIPTION:
URL:https://www.townofwhiteland.com/event/meter-read-2022-02-01-2-2-2-2-2-2-2/2026-06-05/
LOCATION:IN
CATEGORIES:Meter Read
ORGANIZER;CN="Town of Whiteland":MAILTO:adminasst@whiteland.in.us
END:VEVENT
END:VCALENDAR