BEGIN:VCALENDAR
VERSION:2.0
PRODID:-//Town of Whiteland - ECPv6.15.18//NONSGML v1.0//EN
CALSCALE:GREGORIAN
METHOD:PUBLISH
X-WR-CALNAME:Town of Whiteland
X-ORIGINAL-URL:https://www.townofwhiteland.com
X-WR-CALDESC:Events for Town of Whiteland
REFRESH-INTERVAL;VALUE=DURATION:PT1H
X-Robots-Tag:noindex
X-PUBLISHED-TTL:PT1H
BEGIN:VTIMEZONE
TZID:America/Indiana/Indianapolis
BEGIN:DAYLIGHT
TZOFFSETFROM:-0500
TZOFFSETTO:-0400
TZNAME:EDT
DTSTART:20230312T070000
END:DAYLIGHT
BEGIN:STANDARD
TZOFFSETFROM:-0400
TZOFFSETTO:-0500
TZNAME:EST
DTSTART:20231105T060000
END:STANDARD
BEGIN:DAYLIGHT
TZOFFSETFROM:-0500
TZOFFSETTO:-0400
TZNAME:EDT
DTSTART:20240310T070000
END:DAYLIGHT
BEGIN:STANDARD
TZOFFSETFROM:-0400
TZOFFSETTO:-0500
TZNAME:EST
DTSTART:20241103T060000
END:STANDARD
BEGIN:DAYLIGHT
TZOFFSETFROM:-0500
TZOFFSETTO:-0400
TZNAME:EDT
DTSTART:20250309T070000
END:DAYLIGHT
BEGIN:STANDARD
TZOFFSETFROM:-0400
TZOFFSETTO:-0500
TZNAME:EST
DTSTART:20251102T060000
END:STANDARD
BEGIN:DAYLIGHT
TZOFFSETFROM:-0500
TZOFFSETTO:-0400
TZNAME:EDT
DTSTART:20260308T070000
END:DAYLIGHT
BEGIN:STANDARD
TZOFFSETFROM:-0400
TZOFFSETTO:-0500
TZNAME:EST
DTSTART:20261101T060000
END:STANDARD
END:VTIMEZONE
BEGIN:VEVENT
DTSTART;TZID=America/Indiana/Indianapolis:20251014T190000
DTEND;TZID=America/Indiana/Indianapolis:20251014T210000
DTSTAMP:20260421T202626
CREATED:20250926T145416Z
LAST-MODIFIED:20250926T145418Z
UID:10007175-1760468400-1760475600@www.townofwhiteland.com
SUMMARY:Town Council
DESCRIPTION:
URL:https://www.townofwhiteland.com/event/town-council-2023-02-14-4-2-2/
LOCATION:Town Hall\, 549 Main Street\, Whiteland\, IN\, 46184\, United States
CATEGORIES:Town Council
ORGANIZER;CN="Town of Whiteland":MAILTO:adminasst@whiteland.in.us
END:VEVENT
BEGIN:VEVENT
DTSTART;VALUE=DATE:20251007
DTEND;VALUE=DATE:20251008
DTSTAMP:20260421T202626
CREATED:20250728T183045Z
LAST-MODIFIED:20250825T145211Z
UID:10007592-1759795200-1759881599@www.townofwhiteland.com
SUMMARY:Meter Read
DESCRIPTION:
URL:https://www.townofwhiteland.com/event/meter-read-2022-02-01-2-2-2-2-2-2/2025-10-07/
CATEGORIES:Meter Read
ORGANIZER;CN="Town of Whiteland":MAILTO:adminasst@whiteland.in.us
END:VEVENT
BEGIN:VEVENT
DTSTART;TZID=America/Indiana/Indianapolis:20250930T190000
DTEND;TZID=America/Indiana/Indianapolis:20250930T193000
DTSTAMP:20260421T202626
CREATED:20250926T145853Z
LAST-MODIFIED:20250926T145853Z
UID:10007720-1759258800-1759260600@www.townofwhiteland.com
SUMMARY:Town Council
DESCRIPTION:
URL:https://www.townofwhiteland.com/event/town-council-2023-02-14-4-2-2-2/
LOCATION:Town Hall\, 549 Main Street\, Whiteland\, IN\, 46184\, United States
CATEGORIES:Town Council
ORGANIZER;CN="Town of Whiteland":MAILTO:adminasst@whiteland.in.us
END:VEVENT
BEGIN:VEVENT
DTSTART;TZID=America/Indiana/Indianapolis:20250909T190000
DTEND;TZID=America/Indiana/Indianapolis:20250909T210000
DTSTAMP:20260421T202626
CREATED:20250627T133640Z
LAST-MODIFIED:20250627T145632Z
UID:10007174-1757444400-1757451600@www.townofwhiteland.com
SUMMARY:Town Council
DESCRIPTION:
URL:https://www.townofwhiteland.com/event/town-council-2023-02-14-4-2/2025-09-09/
LOCATION:Town Hall\, 549 Main Street\, Whiteland\, IN\, 46184\, United States
CATEGORIES:Town Council
ORGANIZER;CN="Town of Whiteland":MAILTO:adminasst@whiteland.in.us
END:VEVENT
BEGIN:VEVENT
DTSTART;VALUE=DATE:20250902
DTEND;VALUE=DATE:20250903
DTSTAMP:20260421T202626
CREATED:20250728T183045Z
LAST-MODIFIED:20250825T145211Z
UID:10007591-1756771200-1756857599@www.townofwhiteland.com
SUMMARY:Meter Read
DESCRIPTION:
URL:https://www.townofwhiteland.com/event/meter-read-2022-02-01-2-2-2-2-2-2/2025-09-02/
CATEGORIES:Meter Read
ORGANIZER;CN="Town of Whiteland":MAILTO:adminasst@whiteland.in.us
END:VEVENT
BEGIN:VEVENT
DTSTART;TZID=America/Indiana/Indianapolis:20250812T190000
DTEND;TZID=America/Indiana/Indianapolis:20250812T210000
DTSTAMP:20260421T202626
CREATED:20250627T133640Z
LAST-MODIFIED:20250627T145632Z
UID:10007173-1755025200-1755032400@www.townofwhiteland.com
SUMMARY:Town Council
DESCRIPTION:
URL:https://www.townofwhiteland.com/event/town-council-2023-02-14-4-2/2025-08-12/
LOCATION:Town Hall\, 549 Main Street\, Whiteland\, IN\, 46184\, United States
CATEGORIES:Town Council
ORGANIZER;CN="Town of Whiteland":MAILTO:adminasst@whiteland.in.us
END:VEVENT
BEGIN:VEVENT
DTSTART;TZID=America/Indiana/Indianapolis:20250709T133000
DTEND;TZID=America/Indiana/Indianapolis:20250709T140000
DTSTAMP:20260421T202626
CREATED:20250627T124622Z
LAST-MODIFIED:20250627T124938Z
UID:10007053-1752067800-1752069600@www.townofwhiteland.com
SUMMARY:Bid Opening Committee
DESCRIPTION:
URL:https://www.townofwhiteland.com/event/bid-opening-committee/
LOCATION:Town Hall\, 549 Main Street\, Whiteland\, IN\, 46184\, United States
ORGANIZER;CN="Town of Whiteland":MAILTO:adminasst@whiteland.in.us
END:VEVENT
BEGIN:VEVENT
DTSTART;TZID=America/Indiana/Indianapolis:20250708T190000
DTEND;TZID=America/Indiana/Indianapolis:20250708T210000
DTSTAMP:20260421T202626
CREATED:20250627T133640Z
LAST-MODIFIED:20250627T145632Z
UID:10007112-1752001200-1752008400@www.townofwhiteland.com
SUMMARY:Town Council
DESCRIPTION:
URL:https://www.townofwhiteland.com/event/town-council-2023-02-14-4-2/2025-07-08/
LOCATION:Town Hall\, 549 Main Street\, Whiteland\, IN\, 46184\, United States
CATEGORIES:Town Council
ORGANIZER;CN="Town of Whiteland":MAILTO:adminasst@whiteland.in.us
END:VEVENT
BEGIN:VEVENT
DTSTART;VALUE=DATE:20250701
DTEND;VALUE=DATE:20250702
DTSTAMP:20260421T202626
CREATED:20250528T200514Z
LAST-MODIFIED:20250528T200515Z
UID:10006816-1751328000-1751414399@www.townofwhiteland.com
SUMMARY:Meter Read
DESCRIPTION:
URL:https://www.townofwhiteland.com/event/meter-read-2022-02-01-2-2-2-2-2/
CATEGORIES:Meter Read
ORGANIZER;CN="Town of Whiteland":MAILTO:adminasst@whiteland.in.us
END:VEVENT
BEGIN:VEVENT
DTSTART;TZID=America/Indiana/Indianapolis:20250610T190000
DTEND;TZID=America/Indiana/Indianapolis:20250610T210000
DTSTAMP:20260421T202626
CREATED:20210706T194119Z
LAST-MODIFIED:20221214T170245Z
UID:10003230-1749582000-1749589200@www.townofwhiteland.com
SUMMARY:Town Council
DESCRIPTION:
URL:https://www.townofwhiteland.com/event/town-council-2023-02-14/2025-06-10/
LOCATION:Town Hall\, 549 Main Street\, Whiteland\, IN\, 46184\, United States
CATEGORIES:Town Council
ORGANIZER;CN="Town of Whiteland":MAILTO:adminasst@whiteland.in.us
END:VEVENT
BEGIN:VEVENT
DTSTART;VALUE=DATE:20250602
DTEND;VALUE=DATE:20250603
DTSTAMP:20260421T202626
CREATED:20250528T200405Z
LAST-MODIFIED:20250528T200407Z
UID:10006703-1748822400-1748908799@www.townofwhiteland.com
SUMMARY:Meter Read
DESCRIPTION:
URL:https://www.townofwhiteland.com/event/meter-read-2022-02-01-2-2-2-2/
CATEGORIES:Meter Read
ORGANIZER;CN="Town of Whiteland":MAILTO:adminasst@whiteland.in.us
END:VEVENT
BEGIN:VEVENT
DTSTART;TZID=America/Indiana/Indianapolis:20250513T190000
DTEND;TZID=America/Indiana/Indianapolis:20250513T210000
DTSTAMP:20260421T202626
CREATED:20210706T194119Z
LAST-MODIFIED:20221214T170245Z
UID:10003229-1747162800-1747170000@www.townofwhiteland.com
SUMMARY:Town Council
DESCRIPTION:
URL:https://www.townofwhiteland.com/event/town-council-2023-02-14/2025-05-13/
LOCATION:Town Hall\, 549 Main Street\, Whiteland\, IN\, 46184\, United States
CATEGORIES:Town Council
ORGANIZER;CN="Town of Whiteland":MAILTO:adminasst@whiteland.in.us
END:VEVENT
BEGIN:VEVENT
DTSTART;VALUE=DATE:20250501
DTEND;VALUE=DATE:20250502
DTSTAMP:20260421T202626
CREATED:20250421T171726Z
LAST-MODIFIED:20250421T171730Z
UID:10006241-1746057600-1746143999@www.townofwhiteland.com
SUMMARY:Meter Read
DESCRIPTION:
URL:https://www.townofwhiteland.com/event/meter-read-2022-02-01-2-2-2/
CATEGORIES:Meter Read
ORGANIZER;CN="Town of Whiteland":MAILTO:adminasst@whiteland.in.us
END:VEVENT
BEGIN:VEVENT
DTSTART;TZID=America/Indiana/Indianapolis:20250408T190000
DTEND;TZID=America/Indiana/Indianapolis:20250408T210000
DTSTAMP:20260421T202626
CREATED:20210706T194119Z
LAST-MODIFIED:20221214T170245Z
UID:10003228-1744138800-1744146000@www.townofwhiteland.com
SUMMARY:Town Council
DESCRIPTION:
URL:https://www.townofwhiteland.com/event/town-council-2023-02-14/2025-04-08/
LOCATION:Town Hall\, 549 Main Street\, Whiteland\, IN\, 46184\, United States
CATEGORIES:Town Council
ORGANIZER;CN="Town of Whiteland":MAILTO:adminasst@whiteland.in.us
END:VEVENT
BEGIN:VEVENT
DTSTART;TZID=America/Indiana/Indianapolis:20250311T190000
DTEND;TZID=America/Indiana/Indianapolis:20250311T210000
DTSTAMP:20260421T202626
CREATED:20210706T194119Z
LAST-MODIFIED:20221214T170245Z
UID:10003227-1741719600-1741726800@www.townofwhiteland.com
SUMMARY:Town Council
DESCRIPTION:
URL:https://www.townofwhiteland.com/event/town-council-2023-02-14/2025-03-11/
LOCATION:Town Hall\, 549 Main Street\, Whiteland\, IN\, 46184\, United States
CATEGORIES:Town Council
ORGANIZER;CN="Town of Whiteland":MAILTO:adminasst@whiteland.in.us
END:VEVENT
BEGIN:VEVENT
DTSTART;TZID=America/Indiana/Indianapolis:20250211T190000
DTEND;TZID=America/Indiana/Indianapolis:20250211T210000
DTSTAMP:20260421T202626
CREATED:20210706T194119Z
LAST-MODIFIED:20221214T170245Z
UID:10003226-1739300400-1739307600@www.townofwhiteland.com
SUMMARY:Town Council
DESCRIPTION:
URL:https://www.townofwhiteland.com/event/town-council-2023-02-14/2025-02-11/
LOCATION:Town Hall\, 549 Main Street\, Whiteland\, IN\, 46184\, United States
CATEGORIES:Town Council
ORGANIZER;CN="Town of Whiteland":MAILTO:adminasst@whiteland.in.us
END:VEVENT
BEGIN:VEVENT
DTSTART;VALUE=DATE:20250202
DTEND;VALUE=DATE:20250203
DTSTAMP:20260421T202626
CREATED:20241217T163042Z
LAST-MODIFIED:20241217T163044Z
UID:10006238-1738454400-1738540799@www.townofwhiteland.com
SUMMARY:Meter Read
DESCRIPTION:
URL:https://www.townofwhiteland.com/event/meter-read-2022-02-01-2-2/
CATEGORIES:Meter Read
ORGANIZER;CN="Town of Whiteland":MAILTO:adminasst@whiteland.in.us
END:VEVENT
BEGIN:VEVENT
DTSTART;TZID=America/Indiana/Indianapolis:20250114T190000
DTEND;TZID=America/Indiana/Indianapolis:20250114T210000
DTSTAMP:20260421T202626
CREATED:20210706T194119Z
LAST-MODIFIED:20221214T170245Z
UID:10003225-1736881200-1736888400@www.townofwhiteland.com
SUMMARY:Town Council
DESCRIPTION:
URL:https://www.townofwhiteland.com/event/town-council-2023-02-14/2025-01-14/
LOCATION:Town Hall\, 549 Main Street\, Whiteland\, IN\, 46184\, United States
CATEGORIES:Town Council
ORGANIZER;CN="Town of Whiteland":MAILTO:adminasst@whiteland.in.us
END:VEVENT
BEGIN:VEVENT
DTSTART;TZID=America/Indiana/Indianapolis:20241210T190000
DTEND;TZID=America/Indiana/Indianapolis:20241210T210000
DTSTAMP:20260421T202626
CREATED:20210706T194119Z
LAST-MODIFIED:20221214T170245Z
UID:10003224-1733857200-1733864400@www.townofwhiteland.com
SUMMARY:Town Council
DESCRIPTION:
URL:https://www.townofwhiteland.com/event/town-council-2023-02-14/2024-12-10/
LOCATION:Town Hall\, 549 Main Street\, Whiteland\, IN\, 46184\, United States
CATEGORIES:Town Council
ORGANIZER;CN="Town of Whiteland":MAILTO:adminasst@whiteland.in.us
END:VEVENT
BEGIN:VEVENT
DTSTART;TZID=America/Indiana/Indianapolis:20241112T190000
DTEND;TZID=America/Indiana/Indianapolis:20241112T210000
DTSTAMP:20260421T202626
CREATED:20210706T194119Z
LAST-MODIFIED:20221214T170245Z
UID:10003223-1731438000-1731445200@www.townofwhiteland.com
SUMMARY:Town Council
DESCRIPTION:
URL:https://www.townofwhiteland.com/event/town-council-2023-02-14/2024-11-12/
LOCATION:Town Hall\, 549 Main Street\, Whiteland\, IN\, 46184\, United States
CATEGORIES:Town Council
ORGANIZER;CN="Town of Whiteland":MAILTO:adminasst@whiteland.in.us
END:VEVENT
BEGIN:VEVENT
DTSTART;VALUE=DATE:20241101
DTEND;VALUE=DATE:20241102
DTSTAMP:20260421T202626
CREATED:20231228T141610Z
LAST-MODIFIED:20231228T154109Z
UID:10006058-1730419200-1730505599@www.townofwhiteland.com
SUMMARY:Meter Read
DESCRIPTION:
URL:https://www.townofwhiteland.com/event/meter-read-2022-02-01-2/2024-11-01/
CATEGORIES:Meter Read
ORGANIZER;CN="Town of Whiteland":MAILTO:adminasst@whiteland.in.us
END:VEVENT
BEGIN:VEVENT
DTSTART;TZID=America/Indiana/Indianapolis:20241008T190000
DTEND;TZID=America/Indiana/Indianapolis:20241008T210000
DTSTAMP:20260421T202626
CREATED:20210706T194119Z
LAST-MODIFIED:20221214T170245Z
UID:10003222-1728414000-1728421200@www.townofwhiteland.com
SUMMARY:Town Council
DESCRIPTION:
URL:https://www.townofwhiteland.com/event/town-council-2023-02-14/2024-10-08/
LOCATION:Town Hall\, 549 Main Street\, Whiteland\, IN\, 46184\, United States
CATEGORIES:Town Council
ORGANIZER;CN="Town of Whiteland":MAILTO:adminasst@whiteland.in.us
END:VEVENT
BEGIN:VEVENT
DTSTART;VALUE=DATE:20241001
DTEND;VALUE=DATE:20241002
DTSTAMP:20260421T202626
CREATED:20231228T141610Z
LAST-MODIFIED:20231228T154109Z
UID:10006057-1727740800-1727827199@www.townofwhiteland.com
SUMMARY:Meter Read
DESCRIPTION:
URL:https://www.townofwhiteland.com/event/meter-read-2022-02-01-2/2024-10-01/
CATEGORIES:Meter Read
ORGANIZER;CN="Town of Whiteland":MAILTO:adminasst@whiteland.in.us
END:VEVENT
BEGIN:VEVENT
DTSTART;TZID=America/Indiana/Indianapolis:20240910T190000
DTEND;TZID=America/Indiana/Indianapolis:20240910T210000
DTSTAMP:20260421T202626
CREATED:20210706T194119Z
LAST-MODIFIED:20221214T170245Z
UID:10003221-1725994800-1726002000@www.townofwhiteland.com
SUMMARY:Town Council
DESCRIPTION:
URL:https://www.townofwhiteland.com/event/town-council-2023-02-14/2024-09-10/
LOCATION:Town Hall\, 549 Main Street\, Whiteland\, IN\, 46184\, United States
CATEGORIES:Town Council
ORGANIZER;CN="Town of Whiteland":MAILTO:adminasst@whiteland.in.us
END:VEVENT
BEGIN:VEVENT
DTSTART;TZID=America/Indiana/Indianapolis:20240813T190000
DTEND;TZID=America/Indiana/Indianapolis:20240813T210000
DTSTAMP:20260421T202626
CREATED:20210706T194119Z
LAST-MODIFIED:20221214T170245Z
UID:10003220-1723575600-1723582800@www.townofwhiteland.com
SUMMARY:Town Council
DESCRIPTION:
URL:https://www.townofwhiteland.com/event/town-council-2023-02-14/2024-08-13/
LOCATION:Town Hall\, 549 Main Street\, Whiteland\, IN\, 46184\, United States
CATEGORIES:Town Council
ORGANIZER;CN="Town of Whiteland":MAILTO:adminasst@whiteland.in.us
END:VEVENT
BEGIN:VEVENT
DTSTART;VALUE=DATE:20240801
DTEND;VALUE=DATE:20240802
DTSTAMP:20260421T202626
CREATED:20231228T141610Z
LAST-MODIFIED:20231228T154109Z
UID:10006055-1722470400-1722556799@www.townofwhiteland.com
SUMMARY:Meter Read
DESCRIPTION:
URL:https://www.townofwhiteland.com/event/meter-read-2022-02-01-2/2024-08-01/
CATEGORIES:Meter Read
ORGANIZER;CN="Town of Whiteland":MAILTO:adminasst@whiteland.in.us
END:VEVENT
BEGIN:VEVENT
DTSTART;TZID=America/Indiana/Indianapolis:20240709T190000
DTEND;TZID=America/Indiana/Indianapolis:20240709T210000
DTSTAMP:20260421T202626
CREATED:20210706T194119Z
LAST-MODIFIED:20221214T170245Z
UID:10003219-1720551600-1720558800@www.townofwhiteland.com
SUMMARY:Town Council
DESCRIPTION:
URL:https://www.townofwhiteland.com/event/town-council-2023-02-14/2024-07-09/
LOCATION:Town Hall\, 549 Main Street\, Whiteland\, IN\, 46184\, United States
CATEGORIES:Town Council
ORGANIZER;CN="Town of Whiteland":MAILTO:adminasst@whiteland.in.us
END:VEVENT
BEGIN:VEVENT
DTSTART;VALUE=DATE:20240701
DTEND;VALUE=DATE:20240702
DTSTAMP:20260421T202626
CREATED:20231228T141610Z
LAST-MODIFIED:20231228T154109Z
UID:10003322-1719792000-1719878399@www.townofwhiteland.com
SUMMARY:Meter Read
DESCRIPTION:
URL:https://www.townofwhiteland.com/event/meter-read-2022-02-01-2/2024-07-01/
CATEGORIES:Meter Read
ORGANIZER;CN="Town of Whiteland":MAILTO:adminasst@whiteland.in.us
END:VEVENT
BEGIN:VEVENT
DTSTART;TZID=America/Indiana/Indianapolis:20240611T190000
DTEND;TZID=America/Indiana/Indianapolis:20240611T210000
DTSTAMP:20260421T202626
CREATED:20210706T194119Z
LAST-MODIFIED:20221214T170245Z
UID:10003218-1718132400-1718139600@www.townofwhiteland.com
SUMMARY:Town Council
DESCRIPTION:
URL:https://www.townofwhiteland.com/event/town-council-2023-02-14/2024-06-11/
LOCATION:Town Hall\, 549 Main Street\, Whiteland\, IN\, 46184\, United States
CATEGORIES:Town Council
ORGANIZER;CN="Town of Whiteland":MAILTO:adminasst@whiteland.in.us
END:VEVENT
BEGIN:VEVENT
DTSTART;TZID=America/Indiana/Indianapolis:20240514T190000
DTEND;TZID=America/Indiana/Indianapolis:20240514T210000
DTSTAMP:20260421T202626
CREATED:20210706T194119Z
LAST-MODIFIED:20221214T170245Z
UID:10003217-1715713200-1715720400@www.townofwhiteland.com
SUMMARY:Town Council
DESCRIPTION:
URL:https://www.townofwhiteland.com/event/town-council-2023-02-14/2024-05-14/
LOCATION:Town Hall\, 549 Main Street\, Whiteland\, IN\, 46184\, United States
CATEGORIES:Town Council
ORGANIZER;CN="Town of Whiteland":MAILTO:adminasst@whiteland.in.us
END:VEVENT
END:VCALENDAR