BEGIN:VCALENDAR
VERSION:2.0
PRODID:-//Town of Whiteland - ECPv6.15.18//NONSGML v1.0//EN
CALSCALE:GREGORIAN
METHOD:PUBLISH
X-WR-CALNAME:Town of Whiteland
X-ORIGINAL-URL:https://www.townofwhiteland.com
X-WR-CALDESC:Events for Town of Whiteland
REFRESH-INTERVAL;VALUE=DURATION:PT1H
X-Robots-Tag:noindex
X-PUBLISHED-TTL:PT1H
BEGIN:VTIMEZONE
TZID:America/Indiana/Indianapolis
BEGIN:DAYLIGHT
TZOFFSETFROM:-0500
TZOFFSETTO:-0400
TZNAME:EDT
DTSTART:20250309T070000
END:DAYLIGHT
BEGIN:STANDARD
TZOFFSETFROM:-0400
TZOFFSETTO:-0500
TZNAME:EST
DTSTART:20251102T060000
END:STANDARD
BEGIN:DAYLIGHT
TZOFFSETFROM:-0500
TZOFFSETTO:-0400
TZNAME:EDT
DTSTART:20260308T070000
END:DAYLIGHT
BEGIN:STANDARD
TZOFFSETFROM:-0400
TZOFFSETTO:-0500
TZNAME:EST
DTSTART:20261101T060000
END:STANDARD
BEGIN:DAYLIGHT
TZOFFSETFROM:-0500
TZOFFSETTO:-0400
TZNAME:EDT
DTSTART:20270314T070000
END:DAYLIGHT
BEGIN:STANDARD
TZOFFSETFROM:-0400
TZOFFSETTO:-0500
TZNAME:EST
DTSTART:20271107T060000
END:STANDARD
END:VTIMEZONE
BEGIN:VEVENT
DTSTART;VALUE=DATE:20260421
DTEND;VALUE=DATE:20260422
DTSTAMP:20260421T102437
CREATED:20220118T220934Z
LAST-MODIFIED:20231228T134618Z
UID:10003739-1776729600-1776815999@www.townofwhiteland.com
SUMMARY:Recycle
DESCRIPTION:
URL:https://www.townofwhiteland.com/event/recycle/2026-04-21/
CATEGORIES:Recycle
END:VEVENT
BEGIN:VEVENT
DTSTART;VALUE=DATE:20260421
DTEND;VALUE=DATE:20260422
DTSTAMP:20260421T102437
CREATED:20230823T151040Z
LAST-MODIFIED:20250825T143444Z
UID:10005639-1776729600-1776815999@www.townofwhiteland.com
SUMMARY:Trash
DESCRIPTION:
URL:https://www.townofwhiteland.com/event/trash-4/2026-04-21/
CATEGORIES:Trash
END:VEVENT
BEGIN:VEVENT
DTSTART;TZID=America/Indiana/Indianapolis:20260421T180000
DTEND;TZID=America/Indiana/Indianapolis:20260421T190000
DTSTAMP:20260421T102437
CREATED:20260421T124453Z
LAST-MODIFIED:20260421T124453Z
UID:10008369-1776794400-1776798000@www.townofwhiteland.com
SUMMARY:Town Council Special Meeting
DESCRIPTION:
URL:https://www.townofwhiteland.com/event/town-council-special-meeting/
LOCATION:Town Hall\, 549 Main Street\, Whiteland\, IN\, 46184\, United States
CATEGORIES:Town Council
END:VEVENT
BEGIN:VEVENT
DTSTART;VALUE=DATE:20260427
DTEND;VALUE=DATE:20260428
DTSTAMP:20260421T102437
CREATED:20230823T151040Z
LAST-MODIFIED:20250825T143444Z
UID:10005640-1777248000-1777334399@www.townofwhiteland.com
SUMMARY:Trash
DESCRIPTION:
URL:https://www.townofwhiteland.com/event/trash-4/2026-04-27/
CATEGORIES:Trash
END:VEVENT
BEGIN:VEVENT
DTSTART;VALUE=DATE:20260428
DTEND;VALUE=DATE:20260429
DTSTAMP:20260421T102437
CREATED:20230823T151040Z
LAST-MODIFIED:20250825T143444Z
UID:10005641-1777334400-1777420799@www.townofwhiteland.com
SUMMARY:Trash
DESCRIPTION:
URL:https://www.townofwhiteland.com/event/trash-4/2026-04-28/
CATEGORIES:Trash
END:VEVENT
END:VCALENDAR